BEGIN:VCALENDAR
VERSION:2.0
PRODID:-//Verein Kulturvermittlung Zürich - ECPv6.15.18//NONSGML v1.0//EN
CALSCALE:GREGORIAN
METHOD:PUBLISH
X-WR-CALNAME:Verein Kulturvermittlung Zürich
X-ORIGINAL-URL:https://kulturvermittlung-zh.ch
X-WR-CALDESC:Veranstaltungen für Verein Kulturvermittlung Zürich
REFRESH-INTERVAL;VALUE=DURATION:PT1H
X-Robots-Tag:noindex
X-PUBLISHED-TTL:PT1H
BEGIN:VTIMEZONE
TZID:Europe/Zurich
BEGIN:DAYLIGHT
TZOFFSETFROM:+0100
TZOFFSETTO:+0200
TZNAME:CEST
DTSTART:20240331T010000
END:DAYLIGHT
BEGIN:STANDARD
TZOFFSETFROM:+0200
TZOFFSETTO:+0100
TZNAME:CET
DTSTART:20241027T010000
END:STANDARD
BEGIN:DAYLIGHT
TZOFFSETFROM:+0100
TZOFFSETTO:+0200
TZNAME:CEST
DTSTART:20250330T010000
END:DAYLIGHT
BEGIN:STANDARD
TZOFFSETFROM:+0200
TZOFFSETTO:+0100
TZNAME:CET
DTSTART:20251026T010000
END:STANDARD
BEGIN:DAYLIGHT
TZOFFSETFROM:+0100
TZOFFSETTO:+0200
TZNAME:CEST
DTSTART:20260329T010000
END:DAYLIGHT
BEGIN:STANDARD
TZOFFSETFROM:+0200
TZOFFSETTO:+0100
TZNAME:CET
DTSTART:20261025T010000
END:STANDARD
END:VTIMEZONE
BEGIN:VEVENT
DTSTART;TZID=Europe/Zurich:20250321T090000
DTEND;TZID=Europe/Zurich:20250321T110000
DTSTAMP:20260424T141341
CREATED:20241231T091309Z
LAST-MODIFIED:20250107T091145Z
UID:7100-1742547600-1742554800@kulturvermittlung-zh.ch
SUMMARY:Das grosse Feuer (Uraufführung)
DESCRIPTION:«In den Chaco-Wäldern Argentiniens bestimmen die Bäume den natürlichen Lebensrhythmus und sorgen für Nahrung\, Wasser und Kühlung. Doch um die Welt zu ernähren\, werden immer größere Teile des Waldes gerodet.»(FAZ). In Beat Furrers Oper «Das grosse Feuer» begegnen wir ebendieser Thematik. Ausgehend von einer realen Figur erzählt sie uns vom Schicksal des Schamanen Eisejuaz\, der an der modernen Zivilisation zugrunde geht. Sie führt uns in den Kosmos eines argentinischen Volksstamms\, dessen Lebensraum durch Kolonialisierung und christliche Missionierung zerstört wurde\, und eröffnet uns die Problematik aus der Sicht eines indigenen Protagonisten. \n\nMit Roger Lämmli\, Opernhaus Zürich & Eveline Schüep\, Kunsthaus Zürich \n 
URL:https://kulturvermittlung-zh.ch/event/das-grosse-feuer-urauffuehrung/
LOCATION:Opernhaus Zürich\, Probebühnen Escher-Wyss\, Hardturmstrasse 7\, Zürich\, 8005\, Schweiz
CATEGORIES:EARLY BIRDS
ATTACH;FMTTYPE=image/jpeg:https://kulturvermittlung-zh.ch/wp-content/uploads/2024/12/Visuals_24_25_quer72dpi_Feuer.jpg
ORGANIZER;CN="Opernhaus Z%C3%BCrich":MAILTO:roger.laemmli@opernhaus.ch
END:VEVENT
END:VCALENDAR