BEGIN:VCALENDAR
VERSION:2.0
PRODID:-//Verein Kulturvermittlung Zürich - ECPv6.15.18//NONSGML v1.0//EN
CALSCALE:GREGORIAN
METHOD:PUBLISH
X-WR-CALNAME:Verein Kulturvermittlung Zürich
X-ORIGINAL-URL:https://kulturvermittlung-zh.ch
X-WR-CALDESC:Veranstaltungen für Verein Kulturvermittlung Zürich
REFRESH-INTERVAL;VALUE=DURATION:PT1H
X-Robots-Tag:noindex
X-PUBLISHED-TTL:PT1H
BEGIN:VTIMEZONE
TZID:Europe/Zurich
BEGIN:DAYLIGHT
TZOFFSETFROM:+0100
TZOFFSETTO:+0200
TZNAME:CEST
DTSTART:20250330T010000
END:DAYLIGHT
BEGIN:STANDARD
TZOFFSETFROM:+0200
TZOFFSETTO:+0100
TZNAME:CET
DTSTART:20251026T010000
END:STANDARD
BEGIN:DAYLIGHT
TZOFFSETFROM:+0100
TZOFFSETTO:+0200
TZNAME:CEST
DTSTART:20260329T010000
END:DAYLIGHT
BEGIN:STANDARD
TZOFFSETFROM:+0200
TZOFFSETTO:+0100
TZNAME:CET
DTSTART:20261025T010000
END:STANDARD
BEGIN:DAYLIGHT
TZOFFSETFROM:+0100
TZOFFSETTO:+0200
TZNAME:CEST
DTSTART:20270328T010000
END:DAYLIGHT
BEGIN:STANDARD
TZOFFSETFROM:+0200
TZOFFSETTO:+0100
TZNAME:CET
DTSTART:20271031T010000
END:STANDARD
END:VTIMEZONE
BEGIN:VEVENT
DTSTART;TZID=Europe/Zurich:20260519T180000
DTEND;TZID=Europe/Zurich:20260519T210000
DTSTAMP:20260420T135010
CREATED:20260309T113438Z
LAST-MODIFIED:20260420T053016Z
UID:8876-1779213600-1779224400@kulturvermittlung-zh.ch
SUMMARY:Kultur-Spritz: Nordamerika Native Museum
DESCRIPTION:Kultur-Spritz: Nordamerika Native Museum \nZweimal jährlich besucht der Verein eine Mitgliedsinstitution. Im Fokus stehen das jeweilige Vermittlungsangebot oder ausgewählte Aspekte der Vermittlungsarbeit\, die gemeinsam diskutiert und reflektiert werden. Die Veranstaltung endet traditionell mit einem spritzigen Aperó. \nAm ersten Kultur-Spritz 2026 werden wir das Nordamerika Native Museum NONAM besuchen – wir freuen uns auf einen angeregten Austausch! \n  \nOrt: Nordamerika Native Museum NONAM \nDatum: Di\, 19.05.2026 \nUhrzeit: 18:00 bis 21:00 \n  \nUnsere Veranstaltungen richten sich an die Mitglieder unseres Vereins. Darüber hinaus laden sie Interessierte ein\, den Verein und seine Mitglieder näher kennenzulernen. Melden Sie sich bei Interesse für eine Veranstaltung an. 
URL:https://kulturvermittlung-zh.ch/event/kultur-spritz/
LOCATION:NONAM Nordamerika Native Museum Zürich\, Seefeldstrasse 317\, Zürich\, ZH\, 8008\, Schweiz
CATEGORIES:WEITERBILDUNG
END:VEVENT
END:VCALENDAR