BEGIN:VCALENDAR
VERSION:2.0
PRODID:-//Verein Kulturvermittlung Zürich - ECPv6.15.18//NONSGML v1.0//EN
CALSCALE:GREGORIAN
METHOD:PUBLISH
X-WR-CALNAME:Verein Kulturvermittlung Zürich
X-ORIGINAL-URL:https://kulturvermittlung-zh.ch
X-WR-CALDESC:Veranstaltungen für Verein Kulturvermittlung Zürich
REFRESH-INTERVAL;VALUE=DURATION:PT1H
X-Robots-Tag:noindex
X-PUBLISHED-TTL:PT1H
BEGIN:VTIMEZONE
TZID:Europe/Zurich
BEGIN:DAYLIGHT
TZOFFSETFROM:+0100
TZOFFSETTO:+0200
TZNAME:CEST
DTSTART:20250330T010000
END:DAYLIGHT
BEGIN:STANDARD
TZOFFSETFROM:+0200
TZOFFSETTO:+0100
TZNAME:CET
DTSTART:20251026T010000
END:STANDARD
BEGIN:DAYLIGHT
TZOFFSETFROM:+0100
TZOFFSETTO:+0200
TZNAME:CEST
DTSTART:20260329T010000
END:DAYLIGHT
BEGIN:STANDARD
TZOFFSETFROM:+0200
TZOFFSETTO:+0100
TZNAME:CET
DTSTART:20261025T010000
END:STANDARD
BEGIN:DAYLIGHT
TZOFFSETFROM:+0100
TZOFFSETTO:+0200
TZNAME:CEST
DTSTART:20270328T010000
END:DAYLIGHT
BEGIN:STANDARD
TZOFFSETFROM:+0200
TZOFFSETTO:+0100
TZNAME:CET
DTSTART:20271031T010000
END:STANDARD
END:VTIMEZONE
BEGIN:VEVENT
DTSTART;TZID=Europe/Zurich:20260917T160000
DTEND;TZID=Europe/Zurich:20260917T180000
DTSTAMP:20260420T135011
CREATED:20260309T112904Z
LAST-MODIFIED:20260420T053608Z
UID:8872-1789660800-1789668000@kulturvermittlung-zh.ch
SUMMARY:Marktplatz: Kunsthaus Zürich
DESCRIPTION:Marktplatz: Kunsthaus Zürich \nEinmal im Jahr treffen sich die Mitglieder\, um sich über die Jahresprogramme ihrer Institutionen auszutauschen. Dabei werden Vermittlungsangebote vorgestellt\, Kontakte geknüpft und gemeinsame Initiativen entwickelt – beispielsweise die COOL-TUR-Herbstferienkurse oder die EARLY-BIRDS-Angebote für Erwachsene. \n  \nOrt: Kunsthaus Zürich (Moserbau) \nDatum: Do\, 17.09.2026 \nUhrzeit: 16:00 bis 18:00 \n  \nUnsere Veranstaltungen richten sich an die Mitglieder unseres Vereins. Darüber hinaus laden sie Interessierte ein\, den Verein und seine Mitglieder näher kennenzulernen. Melden Sie sich bei Interesse für eine Veranstaltung an. 
URL:https://kulturvermittlung-zh.ch/event/marktplatz-2/
LOCATION:Kunsthaus Zürich\, Heimplatz 1\, Zürich\, 8001\, Schweiz
CATEGORIES:WEITERBILDUNG
END:VEVENT
END:VCALENDAR