BEGIN:VCALENDAR
VERSION:2.0
PRODID:-//Verein Kulturvermittlung Zürich - ECPv6.15.18//NONSGML v1.0//EN
CALSCALE:GREGORIAN
METHOD:PUBLISH
X-WR-CALNAME:Verein Kulturvermittlung Zürich
X-ORIGINAL-URL:https://kulturvermittlung-zh.ch
X-WR-CALDESC:Veranstaltungen für Verein Kulturvermittlung Zürich
REFRESH-INTERVAL;VALUE=DURATION:PT1H
X-Robots-Tag:noindex
X-PUBLISHED-TTL:PT1H
BEGIN:VTIMEZONE
TZID:Europe/Zurich
BEGIN:DAYLIGHT
TZOFFSETFROM:+0100
TZOFFSETTO:+0200
TZNAME:CEST
DTSTART:20190331T010000
END:DAYLIGHT
BEGIN:STANDARD
TZOFFSETFROM:+0200
TZOFFSETTO:+0100
TZNAME:CET
DTSTART:20191027T010000
END:STANDARD
BEGIN:DAYLIGHT
TZOFFSETFROM:+0100
TZOFFSETTO:+0200
TZNAME:CEST
DTSTART:20200329T010000
END:DAYLIGHT
BEGIN:STANDARD
TZOFFSETFROM:+0200
TZOFFSETTO:+0100
TZNAME:CET
DTSTART:20201025T010000
END:STANDARD
BEGIN:DAYLIGHT
TZOFFSETFROM:+0100
TZOFFSETTO:+0200
TZNAME:CEST
DTSTART:20210328T010000
END:DAYLIGHT
BEGIN:STANDARD
TZOFFSETFROM:+0200
TZOFFSETTO:+0100
TZNAME:CET
DTSTART:20211031T010000
END:STANDARD
END:VTIMEZONE
BEGIN:VEVENT
DTSTART;TZID=Europe/Zurich:20200918T090000
DTEND;TZID=Europe/Zurich:20200918T110000
DTSTAMP:20260421T045456
CREATED:20200811T123849Z
LAST-MODIFIED:20210409T171135Z
UID:10000122-1600419600-1600426800@kulturvermittlung-zh.ch
SUMMARY:Lee Miller: Mehr als Muse
DESCRIPTION:Inspiration vor oder hinter der Kamera? Lee Miller ist eine der facettenreichsten Fotografinnen des 20. Jahrhunderts. Um 1930 begehrtes Modell der Vogue und Muse des Surrealisten Man Ray\, nimmt sie bald selbst die Kamera in die Hand und macht Karriere als Mode- und Kriegsreporterin. Mit ihrem unkonventionellen und unabhängigen Geist wagt sie sich auf die unterschiedlichsten Felder. Folgen sie ihr! \n\nMit Domenika Chandra\, Museum für Gestaltung Zürich & Guillaume Guilherme\, Tanzhaus Zürich
URL:https://kulturvermittlung-zh.ch/event/lee-miller-mehr-als-muse/
LOCATION:Museum für Gestaltung Zürich\, Toni-Areal\, Pfingsweidstrasse 96\, Zürich\, ZH\, 8005\, Schweiz
CATEGORIES:EARLY BIRDS
ATTACH;FMTTYPE=image/jpeg:https://kulturvermittlung-zh.ch/wp-content/uploads/2020/08/Bild_1-580x280-1-e1598907309269.jpg
END:VEVENT
BEGIN:VEVENT
DTSTART;TZID=Europe/Zurich:20200904T090000
DTEND;TZID=Europe/Zurich:20200904T110000
DTSTAMP:20260421T045456
CREATED:20200831T143857Z
LAST-MODIFIED:20210409T170956Z
UID:10000124-1599210000-1599217200@kulturvermittlung-zh.ch
SUMMARY:Wildnis drinnen und draussen
DESCRIPTION:Wir laden Sie ein in die neue Sonderausstellung «WaldWildnisWir» und lassen Sie mit allen Sinnen in den Sihlwald eintauchen. Lernen Sie den Sihlwald als Naturwald kennen: Wer ist hier wild unterwegs und wo genau? Welche Pflanzen sind typisch und weshalb? Auf dem gemütlichen Spaziergang entführen wir Sie in die Welt der Kräuter – sie präsentieren sich als essbar\, würzig\, färbend\, giftig und heilend. \n\nMit Annemarie Brennwald\, Wildnispark Zürich & Cynthia Gavranic\, Migros Museum für Gegenwartskunst\n\nImpressionen der Veranstaltung
URL:https://kulturvermittlung-zh.ch/event/wildnis-drinnen-und-draussen/
LOCATION:Wildnispark Zürich\, Besucherzentrum Sihlwald\, Alte Sihlstrasse 13\, Sihlwald\, Zürich\, 8135\, Schweiz
CATEGORIES:EARLY BIRDS
ATTACH;FMTTYPE=image/jpeg:https://kulturvermittlung-zh.ch/wp-content/uploads/2020/08/DSC04044-1024x768-1-e1598907128400.jpg
END:VEVENT
BEGIN:VEVENT
DTSTART;TZID=Europe/Zurich:20200421T090000
DTEND;TZID=Europe/Zurich:20200424T160000
DTSTAMP:20260421T045457
CREATED:20210223T115940Z
LAST-MODIFIED:20210404T103539Z
UID:10000138-1587459600-1587744000@kulturvermittlung-zh.ch
SUMMARY:Zauberzündschnur & Ideenfeuerwerk
DESCRIPTION:Zauberzündschnur und Ideenfeuerwerk \n\nDie Ausstellung «Faxen Flausen Firlefanz» im Musée Visionnaire entführt uns in eine verwunschene Welt\, bevölkert von fantastischen Wesen. Zwischen Zirkus und Clownerie\, Kunst und Krempel versetzen uns die ausgestellten Objekte in Staunen. Wir lassen uns von dieser fantastischen Fülle inspirieren\, werfen einen neuen Blick auf sonst unbeachtete Dinge und hauchen ihnen Leben ein.\n \nAlter der Teilnehmenden: 8 – 12 Jahre\nTeilnehmende: max. 15 Kinder\nKurskosten: CHF 125.- (inkl. Materialkosten)\nKursleitende: Theresa Künz\, Mariella Königshofer\, Theaterpädagoginnen und Ursula Sax\, Kulturvermittlerin\nPräsentation:  Fr 24. April 2020\, 16.30 Uhr
URL:https://kulturvermittlung-zh.ch/event/zauberzuendschnur-und-ideenfeuerwerk-2/
LOCATION:Musée Visionnaire\, Predigerplatz 10\, Zürich\, 8001\, Schweiz
CATEGORIES:COOL-TUR primavera
ATTACH;FMTTYPE=image/jpeg:https://kulturvermittlung-zh.ch/wp-content/uploads/2020/08/fff-580x280-1-e1598907272918.jpg
END:VEVENT
BEGIN:VEVENT
DTSTART;TZID=Europe/Zurich:20200414T090000
DTEND;TZID=Europe/Zurich:20200417T160000
DTSTAMP:20260421T045457
CREATED:20210223T115615Z
LAST-MODIFIED:20210330T124954Z
UID:10000137-1586854800-1587139200@kulturvermittlung-zh.ch
SUMMARY:Zooooo gut!
DESCRIPTION:Zooooo gut! \nHunderte von Tieren bevölkern die Ausstellung «Energie animale»: kleine und grosse\, wilde und zahme\, starke und zarte\, wirkliche und märchenhafte. Welches Tier steckt in dir? Mit Bewegung\, Tanz und Maskenbildnerei nimmst du die Spur auf zu deinem Tier–Totem. Wie fühlst du dich? Zooooo gut! \nAlter der Teilnehmenden: 7 – 10 Jahre\nTeilnehmende: max. 15 Kinder\nKurskosten: CHF 125.- (inkl. Materialkosten)\nKursleitende: Larissa Foletta\, Kulturvermittlerin und Guillaume Guilherme\, Tanzvermittler \nPräsentation:  Fr 17. April 2020\, 16.00 Uhr
URL:https://kulturvermittlung-zh.ch/event/zooooo-gut/
LOCATION:Museum für Gestaltung\, Ausstellungsstrasse 60\, Zürich\, Zürich\, 8005\, Schweiz
CATEGORIES:COOL-TUR primavera
ATTACH;FMTTYPE=image/jpeg:https://kulturvermittlung-zh.ch/wp-content/uploads/2021/02/07_Energie-animale-1024x746-1-e1614081347582.jpg
END:VEVENT
END:VCALENDAR