BEGIN:VCALENDAR
VERSION:2.0
PRODID:-//Verein Kulturvermittlung Zürich - ECPv6.15.18//NONSGML v1.0//EN
CALSCALE:GREGORIAN
METHOD:PUBLISH
X-ORIGINAL-URL:https://kulturvermittlung-zh.ch
X-WR-CALDESC:Veranstaltungen für Verein Kulturvermittlung Zürich
REFRESH-INTERVAL;VALUE=DURATION:PT1H
X-Robots-Tag:noindex
X-PUBLISHED-TTL:PT1H
BEGIN:VTIMEZONE
TZID:Europe/Zurich
BEGIN:DAYLIGHT
TZOFFSETFROM:+0100
TZOFFSETTO:+0200
TZNAME:CEST
DTSTART:20250330T010000
END:DAYLIGHT
BEGIN:STANDARD
TZOFFSETFROM:+0200
TZOFFSETTO:+0100
TZNAME:CET
DTSTART:20251026T010000
END:STANDARD
BEGIN:DAYLIGHT
TZOFFSETFROM:+0100
TZOFFSETTO:+0200
TZNAME:CEST
DTSTART:20260329T010000
END:DAYLIGHT
BEGIN:STANDARD
TZOFFSETFROM:+0200
TZOFFSETTO:+0100
TZNAME:CET
DTSTART:20261025T010000
END:STANDARD
BEGIN:DAYLIGHT
TZOFFSETFROM:+0100
TZOFFSETTO:+0200
TZNAME:CEST
DTSTART:20270328T010000
END:DAYLIGHT
BEGIN:STANDARD
TZOFFSETFROM:+0200
TZOFFSETTO:+0100
TZNAME:CET
DTSTART:20271031T010000
END:STANDARD
END:VTIMEZONE
BEGIN:VEVENT
DTSTART;TZID=Europe/Zurich:20261022T170000
DTEND;TZID=Europe/Zurich:20261022T180000
DTSTAMP:20260422T153912
CREATED:20260309T115430Z
LAST-MODIFIED:20260420T050825Z
UID:10000256-1792688400-1792692000@kulturvermittlung-zh.ch
SUMMARY:Zoom All In – Austausch unter Kulturvermittler:innen
DESCRIPTION:Zoom All In – Austausch unter Kulturvermittler:innen \nAlle zwei Monate findet ein Online-Treffen zu aktuellen und relevanten Themen der Kulturvermittlung statt. ZOOM ALL IN ist ein Raum\, in dem Vereinsmitglieder ihr Wissen teilen und Erfahrungen austauschen können. \nBring ein\, was Dich beschäftigt: \n\nDeine Kenntnisse und Ideen zu Vermittlungsmethoden\nDisktutiere Herausforderungen im Arbeitsalltag mit Kolleg:innen\nEmpfehle externe Expert:innen für inspirierende Kurzreferate\n\n  \nOrt: Online via Zoom \nDatum: Do\, 22.10.2026 \nUhrzeit: 17:00 bis 18:00 \n  \nUnsere Veranstaltungen richten sich an die Mitglieder unseres Vereins. Darüber hinaus laden sie Interessierte ein\, den Verein und seine Mitglieder näher kennenzulernen. Melden Sie sich bei Interesse für eine Veranstaltung an. 
URL:https://kulturvermittlung-zh.ch/event/zoom-all-in-austausch-unter-kulturvermittlerinnen-4/
LOCATION:Zürich
CATEGORIES:WEITERBILDUNG
END:VEVENT
BEGIN:VEVENT
DTSTART;TZID=Europe/Zurich:20261125T180000
DTEND;TZID=Europe/Zurich:20261125T210000
DTSTAMP:20260422T153912
CREATED:20260412T144503Z
LAST-MODIFIED:20260420T051607Z
UID:10000252-1795629600-1795640400@kulturvermittlung-zh.ch
SUMMARY:Kultur-Spritz: Zürcher Kantonalbank
DESCRIPTION:Kultur-Spritz: Zürcher Kantonalbank \nZweimal jährlich besucht der Verein eine Mitgliedsinstitution. Im Fokus stehen das jeweilige Vermittlungsangebot oder ausgewählte Aspekte der Vermittlungsarbeit\, die gemeinsam diskutiert und reflektiert werden. Die Veranstaltung endet traditionell mit einem spritzigen Aperó. \nAm zweiten Kultur-Spritz 2026 werden wir die Zürchner Kantonalbank besuchen – wir freuen uns auf einen angeregten Austausch! \n  \nOrt: Zürcher Kantonalbank \nDatum: Mi\, 25.11.2026 \nUhrzeit: 18:00 bis 21:00 \n  \nUnsere Veranstaltungen richten sich an die Mitglieder unseres Vereins. Darüber hinaus laden sie Interessierte ein\, den Verein und seine Mitglieder näher kennenzulernen. Melden Sie sich bei Interesse für eine Veranstaltung an. 
URL:https://kulturvermittlung-zh.ch/event/kultur-spritz-zuercher-kantonalbank/
LOCATION:Privat: Zürcher Kantonalbank\, Bahnhofstrasse 9\, Zürich\, Zürich\, 8001\, Schweiz
CATEGORIES:WEITERBILDUNG
END:VEVENT
BEGIN:VEVENT
DTSTART;TZID=Europe/Zurich:20261210T170000
DTEND;TZID=Europe/Zurich:20261210T180000
DTSTAMP:20260422T153912
CREATED:20260309T115542Z
LAST-MODIFIED:20260311T121757Z
UID:10000257-1796922000-1796925600@kulturvermittlung-zh.ch
SUMMARY:Zoom All In – Austausch unter Kulturvermittler:innen
DESCRIPTION:Zoom All In – Austausch unter Kulturvermittler:innen \nAlle zwei Monate findet ein Online-Treffen zu aktuellen und relevanten Themen der Kulturvermittlung statt. ZOOM ALL IN ist ein Raum\, in dem Vereinsmitglieder ihr Wissen teilen und Erfahrungen austauschen können. \nBring ein\, was Dich beschäftigt: \n\nDeine Kenntnisse und Ideen zu Vermittlungsmethoden\nDisktutiere Herausforderungen im Arbeitsalltag mit Kolleg:innen\nEmpfehle externe Expert:innen für inspirierende Kurzreferate\n\n  \nOrt: Online via Zoom \nDatum: Do\, 10.12.2026 \nUhrzeit: 17:00 bis 18:00 \n  \nUnsere Veranstaltungen richten sich an die Mitglieder unseres Vereins. Darüber hinaus laden sie Interessierte ein\, den Verein und seine Mitglieder näher kennenzulernen. Melden Sie sich bei Interesse für eine Veranstaltung an. 
URL:https://kulturvermittlung-zh.ch/event/zoom-all-in-austausch-unter-kulturvermittlerinnen-5/
LOCATION:Zürich
CATEGORIES:WEITERBILDUNG
END:VEVENT
END:VCALENDAR