BEGIN:VCALENDAR
VERSION:2.0
PRODID:-//Verein Kulturvermittlung Zürich - ECPv6.15.18//NONSGML v1.0//EN
CALSCALE:GREGORIAN
METHOD:PUBLISH
X-WR-CALNAME:Verein Kulturvermittlung Zürich
X-ORIGINAL-URL:https://kulturvermittlung-zh.ch
X-WR-CALDESC:Veranstaltungen für Verein Kulturvermittlung Zürich
REFRESH-INTERVAL;VALUE=DURATION:PT1H
X-Robots-Tag:noindex
X-PUBLISHED-TTL:PT1H
BEGIN:VTIMEZONE
TZID:Europe/Zurich
BEGIN:DAYLIGHT
TZOFFSETFROM:+0100
TZOFFSETTO:+0200
TZNAME:CEST
DTSTART:20220327T010000
END:DAYLIGHT
BEGIN:STANDARD
TZOFFSETFROM:+0200
TZOFFSETTO:+0100
TZNAME:CET
DTSTART:20221030T010000
END:STANDARD
BEGIN:DAYLIGHT
TZOFFSETFROM:+0100
TZOFFSETTO:+0200
TZNAME:CEST
DTSTART:20230326T010000
END:DAYLIGHT
BEGIN:STANDARD
TZOFFSETFROM:+0200
TZOFFSETTO:+0100
TZNAME:CET
DTSTART:20231029T010000
END:STANDARD
BEGIN:DAYLIGHT
TZOFFSETFROM:+0100
TZOFFSETTO:+0200
TZNAME:CEST
DTSTART:20240331T010000
END:DAYLIGHT
BEGIN:STANDARD
TZOFFSETFROM:+0200
TZOFFSETTO:+0100
TZNAME:CET
DTSTART:20241027T010000
END:STANDARD
END:VTIMEZONE
BEGIN:VEVENT
DTSTART;TZID=Europe/Zurich:20230620T180000
DTEND;TZID=Europe/Zurich:20230714T210000
DTSTAMP:20260425T221952
CREATED:20230617T114642Z
LAST-MODIFIED:20230628T175653Z
UID:10000118-1687284000-1689368400@kulturvermittlung-zh.ch
SUMMARY:Abstimmung 1 - Vereinsfinanzen - Wechsel von Schuljahr auf Kalenderjahr
DESCRIPTION:Der Inhalt ist geschützt.
URL:https://kulturvermittlung-zh.ch/event/wechsel-schuljahr-auf-kalenderjahr/
LOCATION:Zürich\, Zürich\, Schweiz
CATEGORIES:WEITERBILDUNG
END:VEVENT
BEGIN:VEVENT
DTSTART;TZID=Europe/Zurich:20230620T180000
DTEND;TZID=Europe/Zurich:20230714T210000
DTSTAMP:20260425T221952
CREATED:20230617T124127Z
LAST-MODIFIED:20230629T110123Z
UID:10000119-1687284000-1689368400@kulturvermittlung-zh.ch
SUMMARY:Abstimmung 2 - Vereinsfinanzen - Wahl Zeichnungsberechtigte Vereins-Konto
DESCRIPTION:Der Inhalt ist geschützt.
URL:https://kulturvermittlung-zh.ch/event/abstimmung-2-vereinsfinanzen-wahl-zeichnungsberechtigte-vereins-konto/
LOCATION:Zürich\, Zürich\, Schweiz
CATEGORIES:WEITERBILDUNG
END:VEVENT
END:VCALENDAR