BEGIN:VCALENDAR
VERSION:2.0
PRODID:-//Verein Kulturvermittlung Zürich - ECPv6.15.18//NONSGML v1.0//EN
CALSCALE:GREGORIAN
METHOD:PUBLISH
X-WR-CALNAME:Verein Kulturvermittlung Zürich
X-ORIGINAL-URL:https://kulturvermittlung-zh.ch
X-WR-CALDESC:Veranstaltungen für Verein Kulturvermittlung Zürich
REFRESH-INTERVAL;VALUE=DURATION:PT1H
X-Robots-Tag:noindex
X-PUBLISHED-TTL:PT1H
BEGIN:VTIMEZONE
TZID:Europe/Zurich
BEGIN:DAYLIGHT
TZOFFSETFROM:+0100
TZOFFSETTO:+0200
TZNAME:CEST
DTSTART:20220327T010000
END:DAYLIGHT
BEGIN:STANDARD
TZOFFSETFROM:+0200
TZOFFSETTO:+0100
TZNAME:CET
DTSTART:20221030T010000
END:STANDARD
BEGIN:DAYLIGHT
TZOFFSETFROM:+0100
TZOFFSETTO:+0200
TZNAME:CEST
DTSTART:20230326T010000
END:DAYLIGHT
BEGIN:STANDARD
TZOFFSETFROM:+0200
TZOFFSETTO:+0100
TZNAME:CET
DTSTART:20231029T010000
END:STANDARD
BEGIN:DAYLIGHT
TZOFFSETFROM:+0100
TZOFFSETTO:+0200
TZNAME:CEST
DTSTART:20240331T010000
END:DAYLIGHT
BEGIN:STANDARD
TZOFFSETFROM:+0200
TZOFFSETTO:+0100
TZNAME:CET
DTSTART:20241027T010000
END:STANDARD
END:VTIMEZONE
BEGIN:VEVENT
DTSTART;TZID=Europe/Zurich:20231006T090000
DTEND;TZID=Europe/Zurich:20231006T110000
DTSTAMP:20260425T182922
CREATED:20230802T115558Z
LAST-MODIFIED:20231001T173437Z
UID:10000170-1696582800-1696590000@kulturvermittlung-zh.ch
SUMMARY:Stellung beziehen – Käthe Kollwitz
DESCRIPTION:Gesellschaftliche Veränderungen und die damit einhergehenden wechselnden Machtverhältnisse erfordern einen hohen\, oft auch körperlichen Einsatz Einzelner. Käthe Kollwitz’ Leben war geprägt von ihrem politischen Engagement mit den Mitteln der Kunst. Ihre grafischen Serien mit Titeln wie «Weberaufstand» oder «Bauernkrieg» lassen keinen Zweifel\, für welche Seite der Gesellschaft sie Stellung bezog. Wir setzen uns zeichnerisch und mit dem eigenen Körper mit ihren ausdrucksstarken Figuren und Bildformeln auseinander. So lernen wir nicht nur die Künstlerin\, sondern auch die gesellschaftlichen Umstürze\, die sie beschäftigten\, kennen. \n\nMit Eveline Schüep\, Kunsthaus Zürich & Bettina Holzhausen\, Ballett Zürich\n\nBildunterschrift: Käthe Kollwitz\, Die Pflüger. Blatt 1 aus dem Zyklus «Bauernkrieg»\, 1907 Kunsthaus Zürich
URL:https://kulturvermittlung-zh.ch/event/stellung-beziehen-kaethe-kollwitz/
LOCATION:Kunsthaus Zürich\, Heimplatz 1\, Zürich\, 8001\, Schweiz
CATEGORIES:EARLY BIRDS
ATTACH;FMTTYPE=image/png:https://kulturvermittlung-zh.ch/wp-content/uploads/2023/08/clip_image001-e1694019369935.png
END:VEVENT
BEGIN:VEVENT
DTSTART;TZID=Europe/Zurich:20231009T090000
DTEND;TZID=Europe/Zurich:20231013T160000
DTSTAMP:20260425T182922
CREATED:20230607T091033Z
LAST-MODIFIED:20230613T194747Z
UID:10000105-1696842000-1697212800@kulturvermittlung-zh.ch
SUMMARY:Text und Tanz
DESCRIPTION:Text und Tanz\nText und Tanz haben auf den ersten Blick wenig miteinander zu tun – oder vielleicht doch? Wir werden in dieser Woche eigene Texte schreiben: Worte\, Sätze und ganze Geschichten\, allein\, zu zweit oder in Gruppen und wir werden tanzen. Beim Schreiben stellen wir uns Dinge vor\, fassen diese in Worte und schreiben sie auf. Beim Tanzen denken wir mit dem Körper und schreiben nicht auf Papier\, sondern in den Raum. Wir wollen aufgeschriebene Gedanken und Geschichten in Tanz übersetzen und umgekehrt. Schreiben\, was wir tanzen\, und tanzen\, was wir schreiben – vielleicht auch beides gleichzeitig. \n\nKursleitende: Andreas Sauter\, Junges Literatur Labor (JULL) und Bettina Holzhausen\, Ballett Zürich\nAlter: 9 bis 14 Jahre\nTeilnehmende: mind. 15 Kinder\nKurskosten: CHF 200.00 (inkl. Materialkosten) \nBesammlungsort am 1. Kurstag: JuLL\, Bärengasse 20\, 8001 Zürich\nPräsentation: Fr 13.10.2023\, 15:30\, Probebühne Opernhaus\, Kreuzstrasse 5\, UG\, 8008 Zürich \nZwei Wochen vor Kursbeginn erhalten Sie die Einladung mit Informationen zum detaillierten Wochenprogramm sowie den Kontaktdaten der Kursleitendenden.
URL:https://kulturvermittlung-zh.ch/event/text-und-tanz/
LOCATION:JULL Junges Literatur Labor\, BÄRENGASSE 20\, Zürich\, 8001\, Schweiz
CATEGORIES:COOL-TUR
ATTACH;FMTTYPE=image/jpeg:https://kulturvermittlung-zh.ch/wp-content/uploads/2023/06/T_UND_T.jpg
ORGANIZER;CN="Ballett Z%C3%BCrich":MAILTO:roger.laemmli@opernhaus.ch
END:VEVENT
BEGIN:VEVENT
DTSTART;TZID=Europe/Zurich:20231016T090000
DTEND;TZID=Europe/Zurich:20231020T160000
DTSTAMP:20260425T182922
CREATED:20230607T092655Z
LAST-MODIFIED:20230613T193713Z
UID:10000106-1697446800-1697817600@kulturvermittlung-zh.ch
SUMMARY:Sound on\, wir tanzen! Ein bewegter Audio-Walk
DESCRIPTION:Sound on\, wir tanzen! Ein bewegter Audio-Walk\nWir kreieren einen Tanz- und Geräuschpfad durch und um das Tanzhaus Wasserwerk herum. Wir schlängeln\, flitzen und tanzen dem Pfad entlang. Wir erfinden Bewegungen zu Geräuschen und Rhythmen\, die wir selber machen. Wir nehmen die Geräusche auf und mischen sie mit cooler Musik zu einer spannenden Tonspur. Zum Abschluss ist das Publikum eingeladen\, mit Kopfhörern ausgestattet den Pfad entlang zu gehen\, den Klängen zu lauschen und die Tänze und Bewegungen zu bestaunen. \n\nKursleitende: Reut Nahum\, Tanzhaus Zürich & Anselm Caminada\, Radioschule klipp+klang\nAlter: 7 bis 12 Jahre\nTeilnehmende: mind. 10 Kinder\nKurskosten: CHF 200.- (inkl. Materialkosten) \nZwei Wochen vor Kursbeginn erhalten Sie die Einladung mit Informationen zum Besammlungsort\, dem detaillierten Wochenprogramm sowie den Kontaktdaten der Kursleitendenden.
URL:https://kulturvermittlung-zh.ch/event/sound-on-wir-tanzen-ein-bewegter-audio-walk/
LOCATION:Tanzhaus Zürich\, Wasserwerkstrasse 127 A\, Zürich\, Zürich\, 8037\, Schweiz
CATEGORIES:COOL-TUR
ATTACH;FMTTYPE=image/jpeg:https://kulturvermittlung-zh.ch/wp-content/uploads/2023/06/Sound-On.jpg
END:VEVENT
BEGIN:VEVENT
DTSTART;TZID=Europe/Zurich:20231016T090000
DTEND;TZID=Europe/Zurich:20231020T160000
DTSTAMP:20260425T182922
CREATED:20230607T094807Z
LAST-MODIFIED:20230614T114705Z
UID:10000167-1697446800-1697817600@kulturvermittlung-zh.ch
SUMMARY:Jim Knopfs Reise ans Ende der Welt – Film ab!
DESCRIPTION:Jim Knopfs Reise ans Ende der Welt – Film ab!\nIst die reale Welt zu klein für deine Ideen? Lust auf ein Abenteuer? Dann tauche mit Jim Knopf\, Lukas und seiner Lokomotive Emma in die fantastische Welt des Films ein: Wir experimentieren mit Filmtricks und suchen nach visuellen Umsetzungen für Szenen aus Jim Knopfs Reise ans Ende der Welt. Wir lassen eine Spielzeug-Lok mit Hilfe der Greenscreen-Technik übers Meer oder durch die Wüste reisen. Mit Knete und der Stopp Motion Technik animieren wir den Halbdrachen Nepomuk und der Kuscheltierdrache wird zu Frau Mahlzahn. Die Mini-Filmchen vertonen wir mit  Geräuschen und Musik live vor Publikum. \n\nKursleitende: Julian Grünthal\, filmkids.ch & Roger Lämmli\, Opernhaus Zürich\nAlter: 9 bis 12 Jahre\nTeilnehmende: mind. 15 Kinder\nKurskosten: CHF 200.00 (inkl. Materialkosten)\nBesammlungsort: Opernhaus Zürich\, Billettkasse\, Sechseläutenplatz 1\, 8000 Zürich\nPräsentation: Freitag 16. Oktober 16:30\, Opernhaus Zürich \nZwei Wochen vor Kursbeginn erhalten Sie die Einladung mit Informationen zum detaillierten Wochenprogramm sowie den Kontaktdaten der Kursleitendenden. \n 
URL:https://kulturvermittlung-zh.ch/event/jim-knopfs-reise-ans-ende-der-welt-film-ab/
LOCATION:Opernhaus Zürich\, Sechseläutenplatz 1\, Zürich\, ZH\, 8001\, Schweiz
CATEGORIES:COOL-TUR
ATTACH;FMTTYPE=image/jpeg:https://kulturvermittlung-zh.ch/wp-content/uploads/2023/06/Opernhaus.jpg
ORGANIZER;CN="filmkids.ch":MAILTO:info@filmkids.ch
END:VEVENT
BEGIN:VEVENT
DTSTART;TZID=Europe/Zurich:20231016T090000
DTEND;TZID=Europe/Zurich:20231020T160000
DTSTAMP:20260425T182922
CREATED:20230607T100443Z
LAST-MODIFIED:20230824T124103Z
UID:10000168-1697446800-1697817600@kulturvermittlung-zh.ch
SUMMARY:ArchitekTouren
DESCRIPTION:ArchitekTouren\n\nWow – was steht denn da alles in dieser Stadt? Eine 138 Jahre alte Villa\, ein 90-jähriges Designmuseum\, ein 56 Jahre alter Pavillon und das 9 Jahre junge Toni-Areal! Ihr erforscht diese vier besonderen Häuser vom Keller bis unters Dach. Ihr blickt dabei auch hinter verschlossene Türen\, rätselt auf einer Schnitzeljagd um die Wette\, schaut Profis über die Schultern\, die sich täglich mit dem Bauen beschäftigen. Ihr geht auf eine Theatertour und werdet auch sonst selbst aktiv: Mit Minimodellen\, Fotogrammen\, Fotos\, kleinen Stopmotionfilmen und Zeichnungen haltet ihr eure Beobachtungen und Erlebnisse fest. Die Woche endet mit der Präsentation eurer kreativen ArchitekTouren. \n\nKursleitende: Franziska Hess\, Museum für Gestaltung & Raffaella Popp\, Villa Patumbah\, Heimatschutzzentrum\nAlter: 9 bis 12 Jahre\nTeilnehmende: mind. 15 Kinder\nKurskosten: CHF 200.00 (inkl. Materialkosten) \nZwei Wochen vor Kursbeginn erhalten Sie die Einladung mit Informationen zum Besammlungsort\, dem detaillierten Wochenprogramm sowie den Kontaktdaten der Kursleitendenden. \n 
URL:https://kulturvermittlung-zh.ch/event/architektouren/
LOCATION:Heimatschutzzentrum Villa Patumbah\, Zollikerstrasse 128\, Zürich\, 8008\, Schweiz
CATEGORIES:COOL-TUR
ATTACH;FMTTYPE=image/jpeg:https://kulturvermittlung-zh.ch/wp-content/uploads/2023/06/Architektouren2-1.jpg
ORGANIZER;CN="Museum f%C3%BCr Gestaltung Z%C3%BCrich":MAILTO:vermittlung@museum-gestaltung.ch
END:VEVENT
BEGIN:VEVENT
DTSTART;TZID=Europe/Zurich:20231016T090000
DTEND;TZID=Europe/Zurich:20231020T160000
DTSTAMP:20260425T182922
CREATED:20230607T101732Z
LAST-MODIFIED:20230626T101013Z
UID:10000169-1697446800-1697817600@kulturvermittlung-zh.ch
SUMMARY:Tick\, tack\, Taktstock
DESCRIPTION:Tick\, tack\, Taktstock\n\n«Keine Zeit!» schimpft der Hase aus Alice im Wunderland. Oh…. wir fallen in ein Zeitloch und entdecken ein Land\, in dem die Uhren anders ticken. In der Ausstellung im Kunsthaus Zürich lernst du verschiedene Ansichten über die Zeit kennen und denkst darüber nach\, was Zeit für dich bedeutet. Ist die Zeit farbig? Womit lässt sie sich anhalten? Im Atelier baust du eine Zeitmaschine und entscheidest\, wohin sie dich bringt. Mit Stimme und Körper erproben wir verschiedene Wege\, den Takt der Zeit erlebbar zu machen. Dabei unterstützen uns die Gesangsprofis der Zürcher Sing-Akademie. \n\nKursleitende: Eveline Schüep\, Kunsthaus Zürich & Janina Krizun\, Zürcher Sing-Akademie\nAlter: 7 bis 12 Jahre\nTeilnehmende: mind. 15 Kinder\nKurskosten: CHF 200.00 (inkl. Materialkosten) \nKonzertbesuch: am Do 19. Oktober 23\, 19.30 Uhr sind alle Kinder des Kurses mit einer Begleitperson ins Konzert in der Tonhalle Zürich eingeladen.\nPräsentation: Am Fr 20. Oktober 23\, 15-17 Uhr können die Zeitmaschinen vom Publikum besichtigt und ausprobiert werden. \nZwei Wochen vor Kursbeginn erhalten Sie die Einladung mit Informationen zum Besammlungsort\, dem detaillierten Wochenprogramm sowie den Kontaktdaten der Kursleitendenden. \n(Bild: Elena Koycheva auf Unsplash)
URL:https://kulturvermittlung-zh.ch/event/tick-tack-taktstock/
LOCATION:Kunsthaus Zürich\, Heimplatz 1\, Zürich\, Zürich\, 8001\, Schweiz
CATEGORIES:COOL-TUR
ATTACH;FMTTYPE=image/jpeg:https://kulturvermittlung-zh.ch/wp-content/uploads/2023/06/elena-koycheva-VmcIMhuWCac-unsplash-e1686153598888.jpg
ORGANIZER;CN="Z%C3%BCrcher Sing-Akademie":MAILTO:kriszun@sing-akademie.ch
END:VEVENT
END:VCALENDAR