BEGIN:VCALENDAR
VERSION:2.0
PRODID:-//Verein Kulturvermittlung Zürich - ECPv6.15.18//NONSGML v1.0//EN
CALSCALE:GREGORIAN
METHOD:PUBLISH
X-WR-CALNAME:Verein Kulturvermittlung Zürich
X-ORIGINAL-URL:https://kulturvermittlung-zh.ch
X-WR-CALDESC:Veranstaltungen für Verein Kulturvermittlung Zürich
REFRESH-INTERVAL;VALUE=DURATION:PT1H
X-Robots-Tag:noindex
X-PUBLISHED-TTL:PT1H
BEGIN:VTIMEZONE
TZID:Europe/Zurich
BEGIN:DAYLIGHT
TZOFFSETFROM:+0100
TZOFFSETTO:+0200
TZNAME:CEST
DTSTART:20220327T010000
END:DAYLIGHT
BEGIN:STANDARD
TZOFFSETFROM:+0200
TZOFFSETTO:+0100
TZNAME:CET
DTSTART:20221030T010000
END:STANDARD
BEGIN:DAYLIGHT
TZOFFSETFROM:+0100
TZOFFSETTO:+0200
TZNAME:CEST
DTSTART:20230326T010000
END:DAYLIGHT
BEGIN:STANDARD
TZOFFSETFROM:+0200
TZOFFSETTO:+0100
TZNAME:CET
DTSTART:20231029T010000
END:STANDARD
BEGIN:DAYLIGHT
TZOFFSETFROM:+0100
TZOFFSETTO:+0200
TZNAME:CEST
DTSTART:20240331T010000
END:DAYLIGHT
BEGIN:STANDARD
TZOFFSETFROM:+0200
TZOFFSETTO:+0100
TZNAME:CET
DTSTART:20241027T010000
END:STANDARD
END:VTIMEZONE
BEGIN:VEVENT
DTSTART;TZID=Europe/Zurich:20231103T090000
DTEND;TZID=Europe/Zurich:20231103T110000
DTSTAMP:20260425T171026
CREATED:20230802T120429Z
LAST-MODIFIED:20231005T081256Z
UID:10000171-1699002000-1699009200@kulturvermittlung-zh.ch
SUMMARY:Machtträume
DESCRIPTION:Nachtträume des spanischen Choreografen Marcos Moraus war das Zürcher Ballett-Ereignis des Jahres 2022. In der Traumwelt\, die eine rätselhafte Königin heraufbeschwört und in der sich das Tänzerensemble geradezu ineinander zu verschlingen scheint\, liegen Zerstörung und Hoffnung dicht beieinander. Morau gelingt mit dem Ballett Zürich eine tiefgründige Analyse der Gegenwart\, in der uns Macht und Eitelkeit\, Missgunst und Profitgier allzu oft regelrecht im Würgegriff haben.\nWir werden praktisch ausprobieren\, wie Macht verführt und fügsam macht. Anschliessend bekommen wir einen kurzen Einblick in die Probenarbeit des Balletts Zürich. \n\n\n• mit Bettina Holzhausen\, Ballett Zürich und Roger Lämmli\, Opernhaus Zürich \n\nTreffpunkt: Opernhaus Zürich\, Sechseläutenplatz\, Billetkasse
URL:https://kulturvermittlung-zh.ch/event/machttraeume/
LOCATION:Opernhaus Zürich\, Sechseläutenplatz 1\, Zürich\, ZH\, 8001\, Schweiz
CATEGORIES:EARLY BIRDS
ATTACH;FMTTYPE=image/jpeg:https://kulturvermittlung-zh.ch/wp-content/uploads/2023/08/nachttraume_gp_c_gregory-batardon_037-e1690978580511.jpg
ORGANIZER;CN="Ballett Z%C3%BCrich":MAILTO:roger.laemmli@opernhaus.ch
END:VEVENT
BEGIN:VEVENT
DTSTART;TZID=Europe/Zurich:20231115T180000
DTEND;TZID=Europe/Zurich:20231115T210000
DTSTAMP:20260425T171026
CREATED:20231025T154431Z
LAST-MODIFIED:20231026T102224Z
UID:10000175-1700071200-1700082000@kulturvermittlung-zh.ch
SUMMARY:Kulturspritz 4
DESCRIPTION:Ein Anlass für Mitglieder des Vereins kulturvermittlung-zh und interessierte Kulturvermitter*innen arbeitstätig im Kanton Zürich. \nWir laden herzlich ein zum 4. Kulturspritz des Vereins Kulturvermittlung Zürich. Diesmal sind wir zu Gast im filmkids Studio in Altstetten! \nDatum: Mittwoch 15.11.2023\, 18:00 – 21:00 Uhr\nOrt: Vulkanstrasse 120\, 8048 Zürich\n\nGemeinsam möchten wir uns im entspannten Rahmen über die aktuelle Situation der einzelnen Institutionen sowie des Vereins austauschen und insbesondere über die Zukunft des Kinderkursprogramms COOL-TUR diskutieren.\nWir freuen uns auf euch und danken für eine Anmeldung bis am 10. November 2023. \n \nProgrammpunkte\n\n\n\nAb 18.00 Uhr: Eintrudeln\n18.15 – 18.45/19 Uhr : kurzer Input zum Schaffen von filmkids.ch\nAb 19 Uhr – 20.30/21 Uhr : Gemütliches Zusammensein & Austausch\n\n\n\n\n\n\n\nMitbringen: Jedes Team bringt etwas Fingerfood für den Apéro mit. Tragt gerne im Anmeldeformular bei „Bemerkungen“ ein\, was ihr mitbringt\, damit wir es etwas koordinieren können.\n\nKultur-Spritz (Getränke) werden offeriert.\n\n\n 
URL:https://kulturvermittlung-zh.ch/event/kulturspritz-4/
LOCATION:Swiss Film School SFS\, Vulkanstrasse 120\, 8048 Zürich Altstetten\, Zürich\, Schweiz
CATEGORIES:WEITERBILDUNG
ATTACH;FMTTYPE=image/jpeg:https://kulturvermittlung-zh.ch/wp-content/uploads/2023/10/Filmab_wochentilch-952x579-1.jpeg
END:VEVENT
END:VCALENDAR