BEGIN:VCALENDAR
VERSION:2.0
PRODID:-//Verein Kulturvermittlung Zürich - ECPv6.15.18//NONSGML v1.0//EN
CALSCALE:GREGORIAN
METHOD:PUBLISH
X-ORIGINAL-URL:https://kulturvermittlung-zh.ch
X-WR-CALDESC:Veranstaltungen für Verein Kulturvermittlung Zürich
REFRESH-INTERVAL;VALUE=DURATION:PT1H
X-Robots-Tag:noindex
X-PUBLISHED-TTL:PT1H
BEGIN:VTIMEZONE
TZID:Europe/Zurich
BEGIN:DAYLIGHT
TZOFFSETFROM:+0100
TZOFFSETTO:+0200
TZNAME:CEST
DTSTART:20240331T010000
END:DAYLIGHT
BEGIN:STANDARD
TZOFFSETFROM:+0200
TZOFFSETTO:+0100
TZNAME:CET
DTSTART:20241027T010000
END:STANDARD
BEGIN:DAYLIGHT
TZOFFSETFROM:+0100
TZOFFSETTO:+0200
TZNAME:CEST
DTSTART:20250330T010000
END:DAYLIGHT
BEGIN:STANDARD
TZOFFSETFROM:+0200
TZOFFSETTO:+0100
TZNAME:CET
DTSTART:20251026T010000
END:STANDARD
BEGIN:DAYLIGHT
TZOFFSETFROM:+0100
TZOFFSETTO:+0200
TZNAME:CEST
DTSTART:20260329T010000
END:DAYLIGHT
BEGIN:STANDARD
TZOFFSETFROM:+0200
TZOFFSETTO:+0100
TZNAME:CET
DTSTART:20261025T010000
END:STANDARD
END:VTIMEZONE
BEGIN:VEVENT
DTSTART;TZID=Europe/Zurich:20250404T090000
DTEND;TZID=Europe/Zurich:20250404T110000
DTSTAMP:20260424T193153
CREATED:20241231T092723Z
LAST-MODIFIED:20250107T090922Z
UID:10000214-1743757200-1743764400@kulturvermittlung-zh.ch
SUMMARY:Wachstum um jeden Preis?
DESCRIPTION:Die Ausstellung Accumulation – Über Ansammeln\, Wachstum und Überfluss regt an\, über das Wachstumsstreben nachzudenken. So singen in Maja Bajevics Video Arts and Crafts and Facts Fabrikarbeiter*innen im Chor Lieder über Rohstoffpreise. Die Ausstellung nimmt uns mit auf eine Reise und macht unterschiedliche Visionen sichtbar\, wie wir gemeinsam eine lebenswerte Zukunft gestalten könnten. Im Workshop diskutieren wir\, wie wir persönlich der Wachstumsgesellschaft begegnen. Wir versuchen\, das Phänomen des Ansammelns in Klänge umzusetzen\, indem wir im Chor eine Melodie stetig erweitern und ausbauen. Danach visualisieren wir das Thema als Spuren mit unterschiedlichen Materialien auf langen Papierbahnen. \n\nMit Cynthia Gavranic\, Migros Museum für Gegenwartskunst & Roger Lämmli\, Opernhaus Zürich\n\n\n\n  \nBild: Maja Bajevic\, Arts\, Crafts and Facts\, 2015\, 1-Kanal-Videoprojektion\, Sammlung Migros Museum für Gegenwartskunst\, Courtesy: The artist
URL:https://kulturvermittlung-zh.ch/event/wachstum-um-jeden-preis/
LOCATION:Migros Museum für Gegenwartskunst\, Limmatstrasse 270\, Zürich\, 8005\, Schweiz
CATEGORIES:EARLY BIRDS
ATTACH;FMTTYPE=image/jpeg:https://kulturvermittlung-zh.ch/wp-content/uploads/2024/12/20241206_-Early-Birds_Maja-Bajevic.jpg
END:VEVENT
END:VCALENDAR