BEGIN:VCALENDAR
VERSION:2.0
PRODID:-//Verein Kulturvermittlung Zürich - ECPv6.15.18//NONSGML v1.0//EN
CALSCALE:GREGORIAN
METHOD:PUBLISH
X-ORIGINAL-URL:https://kulturvermittlung-zh.ch
X-WR-CALDESC:Veranstaltungen für Verein Kulturvermittlung Zürich
REFRESH-INTERVAL;VALUE=DURATION:PT1H
X-Robots-Tag:noindex
X-PUBLISHED-TTL:PT1H
BEGIN:VTIMEZONE
TZID:Europe/Zurich
BEGIN:DAYLIGHT
TZOFFSETFROM:+0100
TZOFFSETTO:+0200
TZNAME:CEST
DTSTART:20240331T010000
END:DAYLIGHT
BEGIN:STANDARD
TZOFFSETFROM:+0200
TZOFFSETTO:+0100
TZNAME:CET
DTSTART:20241027T010000
END:STANDARD
BEGIN:DAYLIGHT
TZOFFSETFROM:+0100
TZOFFSETTO:+0200
TZNAME:CEST
DTSTART:20250330T010000
END:DAYLIGHT
BEGIN:STANDARD
TZOFFSETFROM:+0200
TZOFFSETTO:+0100
TZNAME:CET
DTSTART:20251026T010000
END:STANDARD
BEGIN:DAYLIGHT
TZOFFSETFROM:+0100
TZOFFSETTO:+0200
TZNAME:CEST
DTSTART:20260329T010000
END:DAYLIGHT
BEGIN:STANDARD
TZOFFSETFROM:+0200
TZOFFSETTO:+0100
TZNAME:CET
DTSTART:20261025T010000
END:STANDARD
END:VTIMEZONE
BEGIN:VEVENT
DTSTART;TZID=Europe/Zurich:20250509T090000
DTEND;TZID=Europe/Zurich:20250509T110000
DTSTAMP:20260424T181129
CREATED:20241231T102936Z
LAST-MODIFIED:20250106T162031Z
UID:10000215-1746781200-1746788400@kulturvermittlung-zh.ch
SUMMARY:Flüssige Körper
DESCRIPTION:Wasserkörper schweifen durch Nebel\, Schweissträume\, es pulsiert. Valerie Reding\, assoziiert*e Künstler*in des Tanzhaus Zürich\, untersucht in ihrem Stück wet dreams gemeinsame Verletzlichkeiten und Abhängigkeiten zwischen uns als Wasserwesen. In diesem Workshop tauchen wir in somatische Praktiken ein und versuchen\, uns durch kollektives Tanzen auf zellulärer Ebene zu verbinden. \n\nMit Christina Gabriela Galli\, Tanzhaus Zürich & Cynthia Gavranic\, Migros Museum für Gegenwartskunst
URL:https://kulturvermittlung-zh.ch/event/fluessige-koerper/
LOCATION:Tanzhaus Zürich\, Wasserwerkstrasse 127 A\, Zürich\, Zürich\, 8037\, Schweiz
CATEGORIES:EARLY BIRDS
ATTACH;FMTTYPE=image/avif:https://kulturvermittlung-zh.ch/wp-content/uploads/2024/12/Photo_EarlyBIrds-scaled.avif
END:VEVENT
BEGIN:VEVENT
DTSTART;TZID=Europe/Zurich:20250523T090000
DTEND;TZID=Europe/Zurich:20250523T110000
DTSTAMP:20260424T181129
CREATED:20241231T104136Z
LAST-MODIFIED:20250106T161951Z
UID:10000216-1747990800-1747998000@kulturvermittlung-zh.ch
SUMMARY:Explosiv
DESCRIPTION:Roman Singer lässt uns mit seinen humorvollen Werken die Welt und ihre alltäglichen Objekte auf spielerisch-erfrischende Weise neu entdecken. Die künstlerischen Ereignisse\, die Roman Signer für uns konstruiert\, sind eine faszinierende Mischung aus Prozess\, Spiel\, Experiment und Staunen. Elementare physikalische Phänomene sowie das Eindämmen und Freisetzen von Energie spielen dabei eine zentrale Rolle. Wir erkunden sein Werk in der Ausstellung im Gespräch und zeichnerisch und lassen uns davon zu eigenen Bewegungen inspirieren. \n\nMit Eveline Schüep\, Kunsthaus Zürich & Christina Galli\, Tanzhaus Zürich\n\n\n\n  \nTreffpunkt: Haupteingang Moserbau (altes Kunsthaus) \nBild: Roman Signer\, Piaggio sur tremplin\, 2003\, Ski jump\, Chochołów\, Pologne\, Photo: Rudolf Steiner/videocompany.ch\, © Roman Signer
URL:https://kulturvermittlung-zh.ch/event/explosiv/
LOCATION:Kunsthaus Zürich\, Heimplatz 1\, Zürich\, 8001\, Schweiz
CATEGORIES:EARLY BIRDS
ATTACH;FMTTYPE=image/jpeg:https://kulturvermittlung-zh.ch/wp-content/uploads/2024/12/Roman-Signer-Piaggio-sur-tremplin-2003-e1735641662103.jpeg
END:VEVENT
END:VCALENDAR