BEGIN:VCALENDAR
VERSION:2.0
PRODID:-//Verein Kulturvermittlung Zürich - ECPv6.15.18//NONSGML v1.0//EN
CALSCALE:GREGORIAN
METHOD:PUBLISH
X-ORIGINAL-URL:https://kulturvermittlung-zh.ch
X-WR-CALDESC:Veranstaltungen für Verein Kulturvermittlung Zürich
REFRESH-INTERVAL;VALUE=DURATION:PT1H
X-Robots-Tag:noindex
X-PUBLISHED-TTL:PT1H
BEGIN:VTIMEZONE
TZID:Europe/Zurich
BEGIN:DAYLIGHT
TZOFFSETFROM:+0100
TZOFFSETTO:+0200
TZNAME:CEST
DTSTART:20240331T010000
END:DAYLIGHT
BEGIN:STANDARD
TZOFFSETFROM:+0200
TZOFFSETTO:+0100
TZNAME:CET
DTSTART:20241027T010000
END:STANDARD
BEGIN:DAYLIGHT
TZOFFSETFROM:+0100
TZOFFSETTO:+0200
TZNAME:CEST
DTSTART:20250330T010000
END:DAYLIGHT
BEGIN:STANDARD
TZOFFSETFROM:+0200
TZOFFSETTO:+0100
TZNAME:CET
DTSTART:20251026T010000
END:STANDARD
BEGIN:DAYLIGHT
TZOFFSETFROM:+0100
TZOFFSETTO:+0200
TZNAME:CEST
DTSTART:20260329T010000
END:DAYLIGHT
BEGIN:STANDARD
TZOFFSETFROM:+0200
TZOFFSETTO:+0100
TZNAME:CET
DTSTART:20261025T010000
END:STANDARD
END:VTIMEZONE
BEGIN:VEVENT
DTSTART;TZID=Europe/Zurich:20250704T090000
DTEND;TZID=Europe/Zurich:20250704T110000
DTSTAMP:20260424T142131
CREATED:20241231T113726Z
LAST-MODIFIED:20250630T073645Z
UID:10000219-1751619600-1751626800@kulturvermittlung-zh.ch
SUMMARY:In der Altstadt nichts neues?
DESCRIPTION:Die Altstädte mit ihren historischen Gebäuden\, Gassen und Plätzen sind voller Geschichte. Doch in den historischen Kernstädten wird nicht nur bewahrt – auch sie selbst sind einem stetigen Wandel unterworfen. Hier raubt der Partylärm den Anwohner*innen zunehmend den Schlaf\, dort verschwindet ein Geschäft nach dem anderen und die Gassen sind verlassen. Welche Veränderungen sind in der Zürcher Altstadt spürbar? Streifen Sie gemeinsam mit uns durch das Dörfli und entdecken Sie einen Stadtteil im Wandel. \n\nMit Judith Schubiger und Jan Kohler\, Heimatschutzzentrum Villa Patumbah & Manuela Hitz\, Musée Visionnaire\n\n  \nBild: © Sonja Koch \n 
URL:https://kulturvermittlung-zh.ch/event/in-der-altstadt-nichts-neues/
LOCATION:Musée Visionnaire\, Predigerplatz 10\, Zürich\, 8001\, Schweiz
CATEGORIES:EARLY BIRDS
ATTACH;FMTTYPE=image/png:https://kulturvermittlung-zh.ch/wp-content/uploads/2024/12/01-Visus-Altstadt-Kosmos-e1735644910629.png
END:VEVENT
END:VCALENDAR