BEGIN:VCALENDAR
VERSION:2.0
PRODID:-//Verein Kulturvermittlung Zürich - ECPv6.15.18//NONSGML v1.0//EN
CALSCALE:GREGORIAN
METHOD:PUBLISH
X-WR-CALNAME:Verein Kulturvermittlung Zürich
X-ORIGINAL-URL:https://kulturvermittlung-zh.ch
X-WR-CALDESC:Veranstaltungen für Verein Kulturvermittlung Zürich
REFRESH-INTERVAL;VALUE=DURATION:PT1H
X-Robots-Tag:noindex
X-PUBLISHED-TTL:PT1H
BEGIN:VTIMEZONE
TZID:Europe/Zurich
BEGIN:DAYLIGHT
TZOFFSETFROM:+0100
TZOFFSETTO:+0200
TZNAME:CEST
DTSTART:20240331T010000
END:DAYLIGHT
BEGIN:STANDARD
TZOFFSETFROM:+0200
TZOFFSETTO:+0100
TZNAME:CET
DTSTART:20241027T010000
END:STANDARD
BEGIN:DAYLIGHT
TZOFFSETFROM:+0100
TZOFFSETTO:+0200
TZNAME:CEST
DTSTART:20250330T010000
END:DAYLIGHT
BEGIN:STANDARD
TZOFFSETFROM:+0200
TZOFFSETTO:+0100
TZNAME:CET
DTSTART:20251026T010000
END:STANDARD
BEGIN:DAYLIGHT
TZOFFSETFROM:+0100
TZOFFSETTO:+0200
TZNAME:CEST
DTSTART:20260329T010000
END:DAYLIGHT
BEGIN:STANDARD
TZOFFSETFROM:+0200
TZOFFSETTO:+0100
TZNAME:CET
DTSTART:20261025T010000
END:STANDARD
END:VTIMEZONE
BEGIN:VEVENT
DTSTART;TZID=Europe/Zurich:20251006T090000
DTEND;TZID=Europe/Zurich:20251010T160000
DTSTAMP:20260420T135124
CREATED:20250528T091119Z
LAST-MODIFIED:20250922T104138Z
UID:10000223-1759741200-1760112000@kulturvermittlung-zh.ch
SUMMARY:Making-of Hänsel und Gretel
DESCRIPTION:Making-of Hänsel und Gretel\nEine Woche Theater spielen und filmen\nFür Kinder von 8 bis 13 Jahren \nEin Herbstferienkurs vom Opernhaus Zürich und Filmkids.ch\n6. bis 10. Oktober 2025 (1. Herbstferienwoche) \nTrau dich durch den Vorhang in eine Theater- und Filmwelt einzutauchen. Aber Vorsicht: Vielleicht verirrst du dich ja im Bühnenwald… Oder du begegnest einer Hexe … Ob sie sich wohl auf ein Interview mit dir einlässt? Und ob dir Hänsel und Gretel wieder daraus helfen? Halte deine Abenteuer mit Kamera fest und schneide daraus ein packendes Making-of. \nAm Ende der Woche zeigt ihr euer Making-of und ausgewählte Szenen auf der Studiobühne. Vor Familie\, Freundinnen und Freunden. Versuch dein Glück und melde dich an! \n  \nDas erwartet dich \n\nDu spielst Theater und erfindest eigene Figuren\nDu entdeckst das Opernhaus Zürich und bekommst einen Blick hinter die Kulissen\nDu lernst\, wie man mit Kamera filmt und einen Clip schneidet\nDu kannst deine Ideen frei umsetzen. Gemeinsam mit anderen\nDu triffst Künstlerinnen und Künstler\nZum Schluss präsentiert ihr eure Ergebnisse auf der Studiobühne\n\n  \nInfos zum Kurs \nDatum: 6. bis 10. Oktober 2025 (1. Herbstferienwoche)\nKurszeit: täglich von 9 bis 16 Uhr\nKursort: Opernhaus Zürich\, Treffpunkt Billettkasse (Sechseläutenplatz 1\, 8000 Zürich)\nAlter: Für Kinder von 8 bis 13 Jahren\nGruppengrösse: bis max. 20 Kinder\nKosten: CHF 350.– / CHF 120.– mit KulturLegi \nLeitung: \n\nCoach von Filmkids.ch:\nOpernhaus Zürich: Thirza Möschinger und Roger Lämmli\, Musiktheaterpädagogen\n\nAbschlusspräsentation\nFreitag\, 10. Oktober 2025\, um 16:30 Uhr auf der Studiobühne\nBesammlung an der Billettkasse Opernhaus Zürich\nFamilie und Freunde sind herzlich willkommen \nVerpflegung\nZnüni und Lunch bitte mitbringen. Wir essen gemeinsam. \nFragen?\nWir helfen gerne weiter:\ninfo@kulturvermittlung-zh.ch \n  \nJetzt anmelden und eine Woche voller Bühne\, Kamera und Märchen erleben!\nKategorie auswählen\nButton „TICKETS KAUFEN“ anklicken\nFormular ausfüllen und direkt online mit Kreditkarte bezahlen
URL:https://kulturvermittlung-zh.ch/event/making-of-haensel-und-gretel/
LOCATION:Zürich
CATEGORIES:COOL-TUR
ATTACH;FMTTYPE=image/jpeg:https://kulturvermittlung-zh.ch/wp-content/uploads/2025/05/COTU_Bild_01_zirkusquartier_UND_filmkids-e1748423438450.jpg
ORGANIZER;CN="Opernhaus Z%C3%BCrich":MAILTO:roger.laemmli@opernhaus.ch
END:VEVENT
BEGIN:VEVENT
DTSTART;TZID=Europe/Zurich:20251006T090000
DTEND;TZID=Europe/Zurich:20251010T160000
DTSTAMP:20260420T135124
CREATED:20250607T213026Z
LAST-MODIFIED:20250912T095129Z
UID:10000225-1759741200-1760112000@kulturvermittlung-zh.ch
SUMMARY:Sei kein Frosch!
DESCRIPTION:Sei kein Frosch!\nEine kreative Woche mit Kunst\, Klang und Fantasie\nFür Kinder von 9 bis 12 Jahren \nEin Herbstferienkurs des Museum Rietberg und der Tonhalle-Gesellschaft Zürich\n6. bis 10. Oktober 2025 (1. Herbstferienwoche) \nWorum geht’s?\nWagst du den Sprung in die zauberhafte Welt des Märchens Der Froschkönig? Dann lass deiner Fantasie freien Lauf. \nGemeinsam mit dem Museum Rietberg und der Tonhalle-Gesellschaft Zürich begibst du dich auf eine kreative Entdeckungsreise. Du stöberst durch geheimnisvolle Bilderwelten\, experimentierst mit spannenden Klängen und gestaltest deine eigenen Kunstwerke. \nWas liegt wohl auf dem Grund des Brunnens? In was verwandelt sich der Frosch? Deine Ideen und Werke werden am Ende der Woche im Konzertfoyer der Tonhalle Zürich ausgestellt und aufgeführt. Werde Teil eines einzigartigen Kunstprojekts. Sei kein Frosch und trau dich – zeig\, was in dir steckt! \n  \nDas erwartet dich: \n\nDu tauchst ein in die Märchenwelt von Kunst und Musik\nDu entdeckst geheimnisvolle Bilder im Museum Rietberg\nDu experimentierst mit Klängen in der Tonhalle Zürich\nDu gestaltest eigene Werke und bringst deine Ideen ein\nZum Schluss zeigst du deine Werke im Konzertfoyer der Tonhalle Zürich\n\n  \nInfos zum Kurs \nDatum: 6. bis 10. Oktober 2025 (1. Herbstferienwoche)\nKurszeit: täglich von 9 bis 16 Uhr\nKursort: in der Stadt Zürich – Durchführungsort wird noch bekannt gegeben)\nAlter: Für Kinder von 9 bis 12 Jahren\nGruppengrösse: bis max. 15 Kinder\nKosten: CHF 350.– / CHF 120.– mit KulturLegi \nLeitung: \n\nMuseum Rietberg: Franziska Aeschbach\nTonhalle-Gesellschaft Zürich: Anna Gitschthaler\n\nAbschlusspräsentation\nFreitag\, den im Konzertfoyer der Tonhalle Zürich\nFamilie und Freunde sind herzlich eingeladen. \nVerpflegung\nBitte Znüni und Lunch mitbringen. Wir essen gemeinsam. \nFragen?\nWir helfen gerne weiter:\ninfo@kulturvermittlung-zh.ch \nJetzt anmelden und eine märchenhafte Woche voller Kunst und Klang erleben!\nKategorie auswählen\nButton „TICKETS KAUFEN“ anklicken\nFormular ausfüllen und direkt online mit Kreditkarte bezahlen \n 
URL:https://kulturvermittlung-zh.ch/event/sei-kein-frosch/
LOCATION:Zürich
CATEGORIES:COOL-TUR
ATTACH;FMTTYPE=image/png:https://kulturvermittlung-zh.ch/wp-content/uploads/2025/06/COOLtur-Der-Froschkoenig-Final-CMYK-e1749804263900.png
END:VEVENT
BEGIN:VEVENT
DTSTART;TZID=Europe/Zurich:20251013T090000
DTEND;TZID=Europe/Zurich:20251017T160000
DTSTAMP:20260420T135124
CREATED:20250607T213952Z
LAST-MODIFIED:20250912T095257Z
UID:10000226-1760346000-1760716800@kulturvermittlung-zh.ch
SUMMARY:Bilder einer Ausstellung
DESCRIPTION:Bilder einer Ausstellung\nEine kreative Woche mit Kunst\, Musik und Bewegung\nFür Kinder von 7 bis 13 Jahren \nEin Herbstferienkurs vom Kunsthaus Zürich und dem Ballett Zürich\n13. bis 17. Oktober 2025 (2. Herbstferienwoche) \nWorum geht’s?\nBilder entstehen auf ganz verschiedene Arten. In deinem Kopf\, wenn du träumst oder Musik hörst. Auf Papier\, wenn du malst\, zeichnest oder etwas zusammenklebst. Oder mit deinem eigenen Körper\, wenn du dich bewegst. \nDer Komponist Modest Mussorgski hat zur Musik eine Ausstellung erfunden – mit Klängen zu Bildern. Findest du im Kunsthaus Zürich ein Bild\, das für dich zu seiner Musik passt? Und wie bringst du selbst ein Bild zum Leben? \nGemeinsam entdecken wir die Sammlung des Kunsthauses und gestalten unsere eigenen Bilder mit Bleistift\, Pinsel\, Fotokamera und ganz viel Bewegung.\nAm Ende der Woche  präsentieren wir unsere lebendige Ausstellung. \n  \nDas erwartet dich \n\nDu entdeckst Kunstwerke im Kunsthaus Zürich\nDu hörst Musik und lässt dazu Bilder in deinem Kopf entstehen\nDu malst\, zeichnest\, collagierst und fotografierst\nDu setzt deine Ideen auch mit deinem Körper um\nDu arbeitest mit Profis aus dem Bereich Kunst und Tanz\nAm Ende präsentierst du deine Werke im Kunsthaus Zürich\n\n  \nInfos zum Kurs \nDatum: 13. bis 17. Oktober 2025 (2. Herbstferienwoche)\nKurszeit: täglich von 9 bis 16 Uhr\nKursort: Kunsthaus Zürich\, Heimplatz 1\, 8001 Zürich\nAlter: Für Kinder von 7 bis 13 Jahren\nGruppengrösse: bis max. 18 Kinder\nKosten: CHF 350.– / CHF 120.– mit KulturLegi \n\nLeitung: \n\nOpernhaus Zürich: Bettina Holzhausen\nKunsthaus Zürich: Eveline Schüep\n\nAbschlusspräsentation\nFreitag\, 17. Oktober 2025\, um 16.00 Uhr im Kunsthaus Zürich\nFamilie und Freunde sind herzlich eingeladen \nVerpflegung\nZnüni und Lunch bitte mitbringen. Wir essen gemeinsam. \nFragen?\nWir helfen gerne weiter:\ninfo@kulturvermittlung-zh.ch \n  \nJetzt anmelden und deine eigenen Bilder lebendig werden lassen!\nKategorie auswählen\nButton „TICKETS KAUFEN“ anklicken\nFormular ausfüllen und direkt online mit Kreditkarte bezahlen \n 
URL:https://kulturvermittlung-zh.ch/event/bilder-einer-ausstellung/
LOCATION:Kunsthaus Zürich\, Heimplatz 1\, Zürich\, Zürich\, 8001\, Schweiz
CATEGORIES:COOL-TUR
ATTACH;FMTTYPE=image/jpeg:https://kulturvermittlung-zh.ch/wp-content/uploads/2025/06/COTU_Bild_04_BilderAusstellung_Balett_UND_Kunsthaus-e1749332504554.jpg
ORGANIZER;CN="Opernhaus Z%C3%BCrich":MAILTO:roger.laemmli@opernhaus.ch
END:VEVENT
BEGIN:VEVENT
DTSTART;TZID=Europe/Zurich:20251013T090000
DTEND;TZID=Europe/Zurich:20251017T160000
DTSTAMP:20260420T135124
CREATED:20250607T215332Z
LAST-MODIFIED:20250911T133310Z
UID:10000227-1760346000-1760716800@kulturvermittlung-zh.ch
SUMMARY:Bewegt an der Limmat: Wasser\, Feuer\, Luft und Erde entdecken
DESCRIPTION:Bewegt an der Limmat: Wasser\, Feuer\, Luft und Erde entdecken\nEine bewegte Woche mit Natur\, Tanz und Fantasie\nFür Kinder von 7 bis 13 Jahren \nEin Herbstferienkurs von GZ Schindlergut und Tanzhause Zürich\n13. bis 17. Oktober 2025 (2. Herbstferienwoche)  \nWorum geht’s?\nIn dieser Woche entdeckst du die vier Elemente: Wasser\, Feuer\, Luft und Erde. \nGemeinsam erkunden wir die Umgebung des Tanzhauses und des Gemeinschaftszentrums Schindlergut. Unterwegs begegnen wir den Elementen in der Natur\, gestalten mit ihnen\, tanzen\, forschen\, bewegen uns und probieren aus\, was alles möglich ist. \nWelche Bewegungen passen zu welchem Element? Wie klingt Luft\, wie fühlt sich Erde an? Mach mit bei unserem gemeinsamen Abenteuer. \n  \nDas erwartet dich \n\nDu lernst die vier Elemente mit allen Sinnen kennen\nDu bewegst dich kreativ im Tanzhaus und in der Natur\nDu lernst Feuer machen\nDu zeigst deine Entdeckungen im Tanzhaus\n\n  \nInfos zum Kurs \nDatum: 13. bis 17. Oktober 2025 (2. Herbstferienwoche)\nKurszeit: täglich von 9 bis 16 Uhr\nKursorte: GZ Schindlergut\, Kronenstrasse 12\, 8006 Zürich und Tanzhaus Zürich\, Wasserwerkstrasse 127a\, 8037 Zürich\nAlter: Für Kinder von 7 bis 13 Jahren\nGruppengrösse: bis max. 20 Kinder\nKosten: CHF 350.– / CHF 120.– mit KulturLegi \nLeitung: \n\nGZ Schindlergut: Stéfanie Saxer und Carmen Flück\nTanzhaus Zürich: Christina Gabriela Galli\n\nAbschlusspräsentation\nFreitag\, 17. Oktober 2025\n14.00 Uhr im GZ Schigu Kafi mit Apéro\n15.00 Uhr im Tanzhaus Zürich\nFamilie und Freunde sind herzlich eingeladen \nVerpflegung\nZnüni und Lunch bitte mitbringen. Wir essen gemeinsam. \nFragen?\nWir helfen gerne weiter:\ninfo@kulturvermittlung-zh.ch \n  \nJetzt anmelden und die Kraft der Elemente mit deinem Körper entdecken!\nKategorie auswählen\nButton „TICKETS KAUFEN“ anklicken\nFormular ausfüllen und direkt online mit Kreditkarte bezahlen \n 
URL:https://kulturvermittlung-zh.ch/event/wasser-feuer-luft-und-erde-entdecken/
LOCATION:GZ Schindlergut\, Schweiz
CATEGORIES:COOL-TUR
ATTACH;FMTTYPE=image/jpeg:https://kulturvermittlung-zh.ch/wp-content/uploads/2025/06/Feuer-machen-e1749804906761.jpg
END:VEVENT
BEGIN:VEVENT
DTSTART;TZID=Europe/Zurich:20251013T090000
DTEND;TZID=Europe/Zurich:20251017T160000
DTSTAMP:20260420T135124
CREATED:20250607T220754Z
LAST-MODIFIED:20250912T095542Z
UID:10000228-1760346000-1760716800@kulturvermittlung-zh.ch
SUMMARY:Zirkus-Filmproduktion
DESCRIPTION:Zirkus-Filmproduktion\nEine kreative Woche mit Akrobatik\, Kamera und Fantasie\nFür Kinder von 8 bis 14 Jahren \nEin Herbstferienkurs vom Zirkusquartier und Filmkids.ch\n13. bis 17. Oktober 2025 (2. Herbstferienwoche) \nWorum geht’s?\nIn dieser Woche wirst du Artistin oder Artist\, Regisseurin oder Kameramann. Du erlebst die Welt des Zirkus und des Films und kannst dich dabei richtig austoben. \nIm Zirkusquartier lernst du coole Tricks und Bewegungen und trainierst Akrobatik mit erfahrenen Zirkusprofis. Danach zeigst du deine Kunststücke vor der Kamera und entdeckst\, wie man mit Ton\, Bild und Schnitt eine eigene Szene gestaltet. \nGemeinsam in kleinen Teams entwickelt ihr eure eigenen Filmideen. Ihr überlegt euch die Handlung\, probiert aus\, wie man sie zeigt\, und dreht eure Szenen selbst. Dabei bist du mal vor der Kamera\, mal dahinter – ganz wie du willst. \nAm Ende entsteht ein gemeinsamer Film\, den ihr eurer Familie und euren Freunden zeigen könnt. \n  \nDas erwartet dich \n\nDu lernst Zirkustricks\, Bewegungen und Akrobatik\nDu trainierst mit echten Artistinnen und Artisten im Zirkusquartier\nDu entwickelst gemeinsam mit anderen eine eigene Filmidee\nDu spielst eine Rolle vor der Kamera oder arbeitest hinter den Kulissen\nDu filmst\, schneidest und gestaltest deine eigene Szene\nIhr erstellt gemeinsam einen kurzen Zirkusfilm\nIhr präsentiert euren Film zum Schluss eurer Familie und euren Freunden\n\n  \nInfos zum Kurs \nDatum: 13. bis 17. Oktober 2025 (2. Herbstferienwoche)\nKurszeit: täglich von 9 bis 16 Uhr\nKursort: Zirkusquartier Zürich\nAlter: Für Kinder von 8 bis 14 Jahren\nGruppengrösse: bis max. 12 Kinder\nKosten: CHF 350.– / CHF 120.– mit KulturLegi \nLeitung: \n\nZirkusquartier Zürich: Naomi Meyer\nFilmkids.ch: Olenka Jud\n\nAbschlusspräsentation\nFreitag\, 17. Oktober 2025\nDetails zur Präsentation und zum Filmscreening werden vor Ort bekannt gegeben\nFamilie und Freunde sind herzlich eingeladen \nVerpflegung\nZnüni und Lunch bitte mitbringen. Wir essen gemeinsam. \nFragen?\nWir helfen gerne weiter:\ninfo@kulturvermittlung-zh.ch \n  \nJetzt anmelden und Manege und Kamera gemeinsam erobern!\nKategorie auswählen\nButton „TICKETS KAUFEN“ anklicken\nFormular ausfüllen und direkt online mit Kreditkarte bezahlen
URL:https://kulturvermittlung-zh.ch/event/zirkus-filmproduktion/
LOCATION:Zürich
CATEGORIES:COOL-TUR
ATTACH;FMTTYPE=image/jpeg:https://kulturvermittlung-zh.ch/wp-content/uploads/2025/06/COTU_Bild_06_zirkusquartier_UND_filmkids-e1749334184386.jpg
END:VEVENT
BEGIN:VEVENT
DTSTART;TZID=Europe/Zurich:20251024T090000
DTEND;TZID=Europe/Zurich:20251024T110000
DTSTAMP:20260420T135124
CREATED:20251003T153638Z
LAST-MODIFIED:20251008T075356Z
UID:10000233-1761296400-1761303600@kulturvermittlung-zh.ch
SUMMARY:Ins Unbekannte springen – Neues entdecken
DESCRIPTION:Haegue Yang (*1971 Seoul) beschäftigt sich in ihrer Ausstellung Haegue Yang: Leap Year mit Identität\, Migration und Geschichte. Ihre poetischen Werke regen an\, kulturelle Grenzen zu überschreiten. Die Künstlerin definiert Kunst als einen Sprung ins Unbekannte. Was könnte das Unbekannte in unserem eigenen Leben bedeuten und was können wir darin entdecken? Wir versuchen dies zu visualisieren\, indem wir aus unterschiedlichen Materialien Collagen oder Glücksbringerfiguren gestalten\, in denen sich Ornamente\, Gesichter oder Erinnerungen zu etwas Neuem verbinden. \nLeitung: Cynthia Gavranic\, Leitung Vermittlung Migros Museum für Gegenwartskunst und Eveline Schüep\, Kunstvermittlerin Kunsthaus Zürich \nBildcredits\nHaegue Yang\, Ausstellungansicht „Haegue Yang: Leap Year“\, Kunsthal Rotterdam\, 2025\, Photo: Marco De Swart
URL:https://kulturvermittlung-zh.ch/event/ins-unbekannte-springen-neues-entdecken/
LOCATION:Migros Museum für Gegenwartskunst\, Limmatstrasse 270\, Zürich\, 8005\, Schweiz
CATEGORIES:EARLY BIRDS
ATTACH;FMTTYPE=image/jpeg:https://kulturvermittlung-zh.ch/wp-content/uploads/2025/10/Ausstellungsansicht_-Haegue-Yang_-Leap-Year-High-Res-07_edit.jpg
END:VEVENT
END:VCALENDAR