BEGIN:VCALENDAR
VERSION:2.0
PRODID:-//Verein Kulturvermittlung Zürich - ECPv6.15.18//NONSGML v1.0//EN
CALSCALE:GREGORIAN
METHOD:PUBLISH
X-ORIGINAL-URL:https://kulturvermittlung-zh.ch
X-WR-CALDESC:Veranstaltungen für Verein Kulturvermittlung Zürich
REFRESH-INTERVAL;VALUE=DURATION:PT1H
X-Robots-Tag:noindex
X-PUBLISHED-TTL:PT1H
BEGIN:VTIMEZONE
TZID:Europe/Zurich
BEGIN:DAYLIGHT
TZOFFSETFROM:+0100
TZOFFSETTO:+0200
TZNAME:CEST
DTSTART:20230326T010000
END:DAYLIGHT
BEGIN:STANDARD
TZOFFSETFROM:+0200
TZOFFSETTO:+0100
TZNAME:CET
DTSTART:20231029T010000
END:STANDARD
BEGIN:DAYLIGHT
TZOFFSETFROM:+0100
TZOFFSETTO:+0200
TZNAME:CEST
DTSTART:20240331T010000
END:DAYLIGHT
BEGIN:STANDARD
TZOFFSETFROM:+0200
TZOFFSETTO:+0100
TZNAME:CET
DTSTART:20241027T010000
END:STANDARD
BEGIN:DAYLIGHT
TZOFFSETFROM:+0100
TZOFFSETTO:+0200
TZNAME:CEST
DTSTART:20250330T010000
END:DAYLIGHT
BEGIN:STANDARD
TZOFFSETFROM:+0200
TZOFFSETTO:+0100
TZNAME:CET
DTSTART:20251026T010000
END:STANDARD
END:VTIMEZONE
BEGIN:VEVENT
DTSTART;TZID=Europe/Zurich:20241101T090000
DTEND;TZID=Europe/Zurich:20241101T110000
DTSTAMP:20260422T083222
CREATED:20240703T151728Z
LAST-MODIFIED:20241028T093224Z
UID:10000195-1730451600-1730458800@kulturvermittlung-zh.ch
SUMMARY:Hinter den Kulissen
DESCRIPTION:Wer im Kinosessel sitzen bleibt\, wenn der Abspann beginnt\, kann je nach Film eine unglaublich lange Liste von Berufen und Namen lesen. Aber warum braucht es denn so viele Menschen um einen Film zu drehen? Welche Berufe verstecken sich dahinter? Nach einer ersten Präsentation\, wie ein Filmset oder ein Theater/Ballet organisiert ist und welche Aufgaben es gibt\, schlüpfen wir selbst in diese Berufe und drehen eine Mini-Filmszene.\nDazwischen gibt es Praxisbeispiele anhand von Bildern vom Spielfilm „Hotel Excelsior“\, welcher dieses Jahr im Studio der Swiss Film School SFS gedreht wurde. \n\nMit Simone Häberling\, Swiss Film School & Bettina Holzhausen\, Ballett Zürich\n\n  \n  \n  \n 
URL:https://kulturvermittlung-zh.ch/event/hinter-den-kulissen/
LOCATION:Swiss Film School SFS\, Vulkanstrasse 120\, 8048 Zürich Altstetten\, Zürich\, Schweiz
CATEGORIES:EARLY BIRDS
ATTACH;FMTTYPE=image/jpeg:https://kulturvermittlung-zh.ch/wp-content/uploads/2024/07/Lehrstellen-im-Rampenlicht-Early-Birds-e1720019822627.jpg
ORGANIZER;CN="Swiss Film School SFS / filmkids.ch":MAILTO:info@filmkids.ch
END:VEVENT
BEGIN:VEVENT
DTSTART;TZID=Europe/Zurich:20241115T090000
DTEND;TZID=Europe/Zurich:20241115T110000
DTSTAMP:20260422T083222
CREATED:20241010T143305Z
LAST-MODIFIED:20241111T125708Z
UID:10000206-1731661200-1731668400@kulturvermittlung-zh.ch
SUMMARY:Autodidakt
DESCRIPTION:Die Landschaftsbilder von Matthew Wong haben eine expressiv-lyrische Kraft. Besonders geprägt wurde Wong von Vincent van Gogh. “I see myself in him. The impossibility of belonging in this world.”  Beide Künstler waren Autodidakten\, haben sich das Zeichnen und Malen selbst beigebracht und kämpften mit psychischen Herausforderungen. Im Gespräch und im eigenen Zeichnen erforschen wir ihr Werk und diskutieren\, welche Kräfte das eigene Lernen fördern und Kreativität freisetzen. \n\nMit Eveline Schüep\, Kunsthaus Zürich & Cynthia Gavranic\, Migros Museum für Gegenwartskunst\n\n  \nTreppunkt: Seiteneingang des neuen Kunsthauses\, Kantonschulstrasse 2 \nBild:  Vincent van Gogh\, Champ de blé aux bleuets\, 1890 \n  \n  \n  \n  \n  \n  \n 
URL:https://kulturvermittlung-zh.ch/event/autodidakt/
LOCATION:Kunsthaus Zürich\, Seiteneingang Chiperfield-Bau\, Kantonsschulstrasse 2\, Zürich
CATEGORIES:EARLY BIRDS
ATTACH;FMTTYPE=image/jpeg:https://kulturvermittlung-zh.ch/wp-content/uploads/2024/10/Vincent-van-Gogh-Champ-de-ble-aux-bleuets-1890-e1728570761631.jpeg
END:VEVENT
BEGIN:VEVENT
DTSTART;TZID=Europe/Zurich:20241129T090000
DTEND;TZID=Europe/Zurich:20241129T110000
DTSTAMP:20260422T083222
CREATED:20241010T144032Z
LAST-MODIFIED:20241121T135631Z
UID:10000207-1732870800-1732878000@kulturvermittlung-zh.ch
SUMMARY:Verwobene Texturen
DESCRIPTION:Unterwegs zwischen Stadelhofen\, Rechberg und Kunsthaus führt Textil KulTour die Teilnehmenden vorbei an einem Stück textiler Stadt- und Materialgeschichte. Das Schlendern auf versteckten Pfaden bringt Unscheinbares ans Licht und schenkt neue Blicke auf die bekannte Stadt. Neben geschichtlichen Einblicken werden passende textile Techniken vorgestellt\, illustriert und erprobt. Wieviel Unterschiedliches kann aus Seide hergestellt werden? Wie beeinflussen Technik und Material die Optik? Warum sind gewisse Techniken verloren gegangen und wir begegnen ihnen nur noch als „Zeitzeugen“\, während andere überdauern und immer noch aktuell sind?  Solche und weitere Fragen werden diskutiert und im Tun erkundet. \n\nMit Eva Waldmann und Isabelle Wackernagel\, Textil-KulTour & Eveline Schüep Kunsthaus Zürich\n\n  \nTreffpunkt: Bahnhofsgebäude Bahnhof Stadelhofen (wettergeschützt)\, der Rundgang endet im Kunsthaus Zürich (zu Fuss) \n  \n  \n  \n  \n  \n 
URL:https://kulturvermittlung-zh.ch/event/verwobene-texturen/
LOCATION:Bahnhofsgebäude Bahnhof Stadelhofen\, Stadelhoferstrasse 8\, Zürich\, 8001\, Schweiz
CATEGORIES:EARLY BIRDS
ATTACH;FMTTYPE=image/jpeg:https://kulturvermittlung-zh.ch/wp-content/uploads/2024/10/2024_8_8-bild-rechstein-e1728571205889.jpg
END:VEVENT
END:VCALENDAR