BEGIN:VCALENDAR
VERSION:2.0
PRODID:-//Verein Kulturvermittlung Zürich - ECPv6.15.18//NONSGML v1.0//EN
CALSCALE:GREGORIAN
METHOD:PUBLISH
X-WR-CALNAME:Verein Kulturvermittlung Zürich
X-ORIGINAL-URL:https://kulturvermittlung-zh.ch
X-WR-CALDESC:Veranstaltungen für Verein Kulturvermittlung Zürich
REFRESH-INTERVAL;VALUE=DURATION:PT1H
X-Robots-Tag:noindex
X-PUBLISHED-TTL:PT1H
BEGIN:VTIMEZONE
TZID:Europe/Zurich
BEGIN:DAYLIGHT
TZOFFSETFROM:+0100
TZOFFSETTO:+0200
TZNAME:CEST
DTSTART:20230326T010000
END:DAYLIGHT
BEGIN:STANDARD
TZOFFSETFROM:+0200
TZOFFSETTO:+0100
TZNAME:CET
DTSTART:20231029T010000
END:STANDARD
BEGIN:DAYLIGHT
TZOFFSETFROM:+0100
TZOFFSETTO:+0200
TZNAME:CEST
DTSTART:20240331T010000
END:DAYLIGHT
BEGIN:STANDARD
TZOFFSETFROM:+0200
TZOFFSETTO:+0100
TZNAME:CET
DTSTART:20241027T010000
END:STANDARD
BEGIN:DAYLIGHT
TZOFFSETFROM:+0100
TZOFFSETTO:+0200
TZNAME:CEST
DTSTART:20250330T010000
END:DAYLIGHT
BEGIN:STANDARD
TZOFFSETFROM:+0200
TZOFFSETTO:+0100
TZNAME:CET
DTSTART:20251026T010000
END:STANDARD
END:VTIMEZONE
BEGIN:VEVENT
DTSTART;TZID=Europe/Zurich:20241213T090000
DTEND;TZID=Europe/Zurich:20241213T110000
DTSTAMP:20260422T064132
CREATED:20241010T144453Z
LAST-MODIFIED:20241014T073422Z
UID:10000208-1734080400-1734087600@kulturvermittlung-zh.ch
SUMMARY:Geteiltes Wissen macht stark
DESCRIPTION:In der Ausstellung „Knowledge Is a Garden –  Uriel Orlow im Dialog mit der Sammlung des Migros Museum für Gegenwartskunst“ fragt der Künstler Uriel Orlow\, welche Möglichkeiten sich ergeben\, wenn wir vermeintlich feststehendes Wissen als etwas Wachsendes begreifen. Die Ausstellung ist eine künstlerische Auseinandersetzung mit der Unterdrückung von Wissen\, der unrechtmässigen Aneignung von Wissen und letztlich mit neuen Formen der Wissensproduktion und -vielfalt. Im Workshop teilen wir zunächst unser Wissen auf unterschiedlichen Gebieten. Wir gestalten danach mit verschiedenen Textilien\, Naturmaterialien und Farben Werke\, die gemeinsam einen Wissengarten bilden und stärkendes\, neues Wissen ermöglichen. \n\nMit Cynthia Gavranic\, Leitung Vermittlung Migros Museum für Gegenwartskunst & Textil KulTour\, Isabelle Wackernagel und Eva Waldmann\n\n  \nBild: Uriel Orlow\, Theatrum Botanicum Trilogy\, 2016-2018\, 3-Kanal Videoinstallation (HD\, Farbe\, s/w\, Ton)\, Dexion-Struktur\, Foto Austin Malema\, Copyright Pro Litteris \n  \n  \n  \n  \n  \n 
URL:https://kulturvermittlung-zh.ch/event/geteiltes-wissen-macht-stark/
LOCATION:Migros Museum für Gegenwartskunst\, Limmatstrasse 270\, Zürich\, 8005\, Schweiz
CATEGORIES:EARLY BIRDS
ATTACH;FMTTYPE=image/jpeg:https://kulturvermittlung-zh.ch/wp-content/uploads/2024/10/Uriel-Orlow_Theatrum-Botanicum-Muthi.jpg
END:VEVENT
END:VCALENDAR