BEGIN:VCALENDAR
VERSION:2.0
PRODID:-//Verein Kulturvermittlung Zürich - ECPv6.15.18//NONSGML v1.0//EN
CALSCALE:GREGORIAN
METHOD:PUBLISH
X-ORIGINAL-URL:https://kulturvermittlung-zh.ch
X-WR-CALDESC:Veranstaltungen für Verein Kulturvermittlung Zürich
REFRESH-INTERVAL;VALUE=DURATION:PT1H
X-Robots-Tag:noindex
X-PUBLISHED-TTL:PT1H
BEGIN:VTIMEZONE
TZID:Europe/Zurich
BEGIN:DAYLIGHT
TZOFFSETFROM:+0100
TZOFFSETTO:+0200
TZNAME:CEST
DTSTART:20250330T010000
END:DAYLIGHT
BEGIN:STANDARD
TZOFFSETFROM:+0200
TZOFFSETTO:+0100
TZNAME:CET
DTSTART:20251026T010000
END:STANDARD
BEGIN:DAYLIGHT
TZOFFSETFROM:+0100
TZOFFSETTO:+0200
TZNAME:CEST
DTSTART:20260329T010000
END:DAYLIGHT
BEGIN:STANDARD
TZOFFSETFROM:+0200
TZOFFSETTO:+0100
TZNAME:CET
DTSTART:20261025T010000
END:STANDARD
BEGIN:DAYLIGHT
TZOFFSETFROM:+0100
TZOFFSETTO:+0200
TZNAME:CEST
DTSTART:20270328T010000
END:DAYLIGHT
BEGIN:STANDARD
TZOFFSETFROM:+0200
TZOFFSETTO:+0100
TZNAME:CET
DTSTART:20271031T010000
END:STANDARD
END:VTIMEZONE
BEGIN:VEVENT
DTSTART;TZID=Europe/Zurich:20260327T090000
DTEND;TZID=Europe/Zurich:20260327T110000
DTSTAMP:20260423T120306
CREATED:20251215T085058Z
LAST-MODIFIED:20251216T140957Z
UID:10000240-1774602000-1774609200@kulturvermittlung-zh.ch
SUMMARY:Faser des Lebens
DESCRIPTION:Fasern durchziehen unser Leben – im wörtlichen wie im übertragenen Sinn. Sie verbinden\, halten\, umhüllen\, schützen. Sie erzählen von Berührung\, Handwerk und Identität. Die Führung zeigt Geschichten und Bedeutungen\, die in textilen Objekten eingeschrieben sind – von den fein gesponnenen Grashalmen eines Süssgrasszopfes bis zum wetterfesten Zedernhut. \nLeitung: Sarah Manthei\, NONAM und Isabelle Wackernagel\, Textil KulTour \nOrt: Nordamerika Native Museum (NONAM)\, Seefeldstrasse 317\, 8008 Zürich \nBildcredits\nIsabelle Wackernagel\, NONAM Maquinna hat (Kultur Ahousat) und bequillte Rindenschachtel mit Deckel (Kultur Mi’kmaq)
URL:https://kulturvermittlung-zh.ch/event/faser-des-lebens/
LOCATION:NONAM Nordamerika Native Museum Zürich\, Seefeldstrasse 317\, Zürich\, ZH\, 8008\, Schweiz
CATEGORIES:EARLY BIRDS
ATTACH;FMTTYPE=image/jpeg:https://kulturvermittlung-zh.ch/wp-content/uploads/2025/12/2026-03-27-faser-des-lebens.jpg
END:VEVENT
END:VCALENDAR