BEGIN:VCALENDAR
VERSION:2.0
PRODID:-//Verein Kulturvermittlung Zürich - ECPv6.15.18//NONSGML v1.0//EN
CALSCALE:GREGORIAN
METHOD:PUBLISH
X-ORIGINAL-URL:https://kulturvermittlung-zh.ch
X-WR-CALDESC:Veranstaltungen für Verein Kulturvermittlung Zürich
REFRESH-INTERVAL;VALUE=DURATION:PT1H
X-Robots-Tag:noindex
X-PUBLISHED-TTL:PT1H
BEGIN:VTIMEZONE
TZID:Europe/Zurich
BEGIN:DAYLIGHT
TZOFFSETFROM:+0100
TZOFFSETTO:+0200
TZNAME:CEST
DTSTART:20250330T010000
END:DAYLIGHT
BEGIN:STANDARD
TZOFFSETFROM:+0200
TZOFFSETTO:+0100
TZNAME:CET
DTSTART:20251026T010000
END:STANDARD
BEGIN:DAYLIGHT
TZOFFSETFROM:+0100
TZOFFSETTO:+0200
TZNAME:CEST
DTSTART:20260329T010000
END:DAYLIGHT
BEGIN:STANDARD
TZOFFSETFROM:+0200
TZOFFSETTO:+0100
TZNAME:CET
DTSTART:20261025T010000
END:STANDARD
BEGIN:DAYLIGHT
TZOFFSETFROM:+0100
TZOFFSETTO:+0200
TZNAME:CEST
DTSTART:20270328T010000
END:DAYLIGHT
BEGIN:STANDARD
TZOFFSETFROM:+0200
TZOFFSETTO:+0100
TZNAME:CET
DTSTART:20271031T010000
END:STANDARD
END:VTIMEZONE
BEGIN:VEVENT
DTSTART;TZID=Europe/Zurich:20260925T090000
DTEND;TZID=Europe/Zurich:20260925T110000
DTSTAMP:20260419T184910
CREATED:20251215T110327Z
LAST-MODIFIED:20251216T142811Z
UID:10000245-1790326800-1790334000@kulturvermittlung-zh.ch
SUMMARY:Begleiter drinnen und draussen
DESCRIPTION:Was bedeutet es\, Dinge herzustellen und sie wieder loszulassen? Die Führung beginnt mit der Frage nach dem Kreislauf der Gegenstände: Wie entsteht ein Kleidungstück\, was muss es können\, woher kommen die Ideen? Ein Objekt\, wer formt es\, und was geschieht\, wenn es seine ursprüngliche Funktion verliert? In vielen Kulturen gilt das Herstellen als ein Akt der Verantwortung. Man schafft nur\, was wirklich gebraucht wird\, und behandelt Materialien mit grosser Sorgsamkeit. Diese Haltung begegnet Menschen in textilen Traditionen ebenso wie ein zeitgenössischen Nachhaltigkeitsdiskursen. Wir bewegen uns draussen (kann Treppen haben) und gehen diesen Fragen nach \nLeitung: Isabelle Wackernagel\, Textil KulTour und Sarah Manthei\, NONAM \nTreffpunkt: Patumbapark\, Zollikerstrasse 128\, 8008 Zürich beim Eingang; Endpunkt: Quartierhof Wynegg\, Weineggstr. 44a\, 8008 Zürich \nBildcredits\nIsabelle Wackernagel\, Sichtschschicht Regenmantel und NONAM Regenparka\, Darmparka Inupiaq (Kultur Alaskan Inupiat)
URL:https://kulturvermittlung-zh.ch/event/begleiter-drinnen-und-draussen/
LOCATION:Privat: Patumbapark\, Zollikerstrasse 128\, Zürich\, Zürich\, 8008\, Schweiz
CATEGORIES:EARLY BIRDS
ATTACH;FMTTYPE=image/jpeg:https://kulturvermittlung-zh.ch/wp-content/uploads/2025/12/2026-09-25-begleiter-drinnen-und-draussen-e1765796589642.jpg
END:VEVENT
END:VCALENDAR