BEGIN:VCALENDAR
VERSION:2.0
PRODID:-//Verein Kulturvermittlung Zürich - ECPv6.15.18//NONSGML v1.0//EN
CALSCALE:GREGORIAN
METHOD:PUBLISH
X-WR-CALNAME:Verein Kulturvermittlung Zürich
X-ORIGINAL-URL:https://kulturvermittlung-zh.ch
X-WR-CALDESC:Veranstaltungen für Verein Kulturvermittlung Zürich
REFRESH-INTERVAL;VALUE=DURATION:PT1H
X-Robots-Tag:noindex
X-PUBLISHED-TTL:PT1H
BEGIN:VTIMEZONE
TZID:Europe/Zurich
BEGIN:DAYLIGHT
TZOFFSETFROM:+0100
TZOFFSETTO:+0200
TZNAME:CEST
DTSTART:20210328T010000
END:DAYLIGHT
BEGIN:STANDARD
TZOFFSETFROM:+0200
TZOFFSETTO:+0100
TZNAME:CET
DTSTART:20211031T010000
END:STANDARD
BEGIN:DAYLIGHT
TZOFFSETFROM:+0100
TZOFFSETTO:+0200
TZNAME:CEST
DTSTART:20220327T010000
END:DAYLIGHT
BEGIN:STANDARD
TZOFFSETFROM:+0200
TZOFFSETTO:+0100
TZNAME:CET
DTSTART:20221030T010000
END:STANDARD
BEGIN:DAYLIGHT
TZOFFSETFROM:+0100
TZOFFSETTO:+0200
TZNAME:CEST
DTSTART:20230326T010000
END:DAYLIGHT
BEGIN:STANDARD
TZOFFSETFROM:+0200
TZOFFSETTO:+0100
TZNAME:CET
DTSTART:20231029T010000
END:STANDARD
END:VTIMEZONE
BEGIN:VEVENT
DTSTART;TZID=Europe/Zurich:20220121T090000
DTEND;TZID=Europe/Zurich:20220121T110000
DTSTAMP:20260425T034801
CREATED:20210905T193209Z
LAST-MODIFIED:20220120T125112Z
UID:10000089-1642755600-1642762800@kulturvermittlung-zh.ch
SUMMARY:Plant fever
DESCRIPTION:«Plant Fever» hinterfragt die Vormachtstellung des Menschen gegenüber der Pflanzenwelt. Designerinnen\, Wissenschaftler und Ingenieurinnen haben begonnen\, sie als Verbündete zu sehen. Sie befassen sich mit Strukturen und Verhaltensweisen von Pflanzen\, um von ihnen bei der Entwicklung von Lösungen für aktuelle und zukünftige ökologische und soziale Probleme zu lernen. Wie sind Pflanzen miteinander vernetzt? Bewegen sie sich wirklich nicht? In der dialogischen Führung durch die Ausstellung hören sie Pflanzenklängen zu\, testen Roboter und diskutieren Fragen zum Design mit Nachhaltigkeitsanspruch. Nicht zuletzt geht es um die grosse Frage: «Wo stehe ich als Mensch in diesem lebendigen Kosmos?» \n\nMit Franziska Hess\, Museum für Gestaltung Zürich & Katharina Kägi\, NONAM\n\n 
URL:https://kulturvermittlung-zh.ch/event/plant-fever/
LOCATION:Museum für Gestaltung Zürich\, Toni-Areal\, Pfingsweidstrasse 96\, Zürich\, ZH\, 8005\, Schweiz
CATEGORIES:EARLY BIRDS
ATTACH;FMTTYPE=image/jpeg:https://kulturvermittlung-zh.ch/wp-content/uploads/2021/09/3-7_Plant-Fever-Towards-a-Phyto-centred-Design_Exhibition-by-studio-d-o-t-s-x-CID-au-Grand-Hornu_Photo-Tim-Van-de-Velde.jpeg
ORGANIZER;CN="Museum f%C3%BCr Gestaltung Z%C3%BCrich":MAILTO:vermittlung@museum-gestaltung.ch
END:VEVENT
END:VCALENDAR