BEGIN:VCALENDAR
VERSION:2.0
PRODID:-//Verein Kulturvermittlung Zürich - ECPv6.15.18//NONSGML v1.0//EN
CALSCALE:GREGORIAN
METHOD:PUBLISH
X-WR-CALNAME:Verein Kulturvermittlung Zürich
X-ORIGINAL-URL:https://kulturvermittlung-zh.ch
X-WR-CALDESC:Veranstaltungen für Verein Kulturvermittlung Zürich
REFRESH-INTERVAL;VALUE=DURATION:PT1H
X-Robots-Tag:noindex
X-PUBLISHED-TTL:PT1H
BEGIN:VTIMEZONE
TZID:Europe/Zurich
BEGIN:DAYLIGHT
TZOFFSETFROM:+0100
TZOFFSETTO:+0200
TZNAME:CEST
DTSTART:20200329T010000
END:DAYLIGHT
BEGIN:STANDARD
TZOFFSETFROM:+0200
TZOFFSETTO:+0100
TZNAME:CET
DTSTART:20201025T010000
END:STANDARD
BEGIN:DAYLIGHT
TZOFFSETFROM:+0100
TZOFFSETTO:+0200
TZNAME:CEST
DTSTART:20210328T010000
END:DAYLIGHT
BEGIN:STANDARD
TZOFFSETFROM:+0200
TZOFFSETTO:+0100
TZNAME:CET
DTSTART:20211031T010000
END:STANDARD
BEGIN:DAYLIGHT
TZOFFSETFROM:+0100
TZOFFSETTO:+0200
TZNAME:CEST
DTSTART:20220327T010000
END:DAYLIGHT
BEGIN:STANDARD
TZOFFSETFROM:+0200
TZOFFSETTO:+0100
TZNAME:CET
DTSTART:20221030T010000
END:STANDARD
BEGIN:DAYLIGHT
TZOFFSETFROM:+0100
TZOFFSETTO:+0200
TZNAME:CEST
DTSTART:20230326T010000
END:DAYLIGHT
BEGIN:STANDARD
TZOFFSETFROM:+0200
TZOFFSETTO:+0100
TZNAME:CET
DTSTART:20231029T010000
END:STANDARD
END:VTIMEZONE
BEGIN:VEVENT
DTSTART;TZID=Europe/Zurich:20220121T090000
DTEND;TZID=Europe/Zurich:20220121T110000
DTSTAMP:20260424T200218
CREATED:20210905T193209Z
LAST-MODIFIED:20220120T125112Z
UID:10000089-1642755600-1642762800@kulturvermittlung-zh.ch
SUMMARY:Plant fever
DESCRIPTION:«Plant Fever» hinterfragt die Vormachtstellung des Menschen gegenüber der Pflanzenwelt. Designerinnen\, Wissenschaftler und Ingenieurinnen haben begonnen\, sie als Verbündete zu sehen. Sie befassen sich mit Strukturen und Verhaltensweisen von Pflanzen\, um von ihnen bei der Entwicklung von Lösungen für aktuelle und zukünftige ökologische und soziale Probleme zu lernen. Wie sind Pflanzen miteinander vernetzt? Bewegen sie sich wirklich nicht? In der dialogischen Führung durch die Ausstellung hören sie Pflanzenklängen zu\, testen Roboter und diskutieren Fragen zum Design mit Nachhaltigkeitsanspruch. Nicht zuletzt geht es um die grosse Frage: «Wo stehe ich als Mensch in diesem lebendigen Kosmos?» \n\nMit Franziska Hess\, Museum für Gestaltung Zürich & Katharina Kägi\, NONAM\n\n 
URL:https://kulturvermittlung-zh.ch/event/plant-fever/
LOCATION:Museum für Gestaltung Zürich\, Toni-Areal\, Pfingsweidstrasse 96\, Zürich\, ZH\, 8005\, Schweiz
CATEGORIES:EARLY BIRDS
ATTACH;FMTTYPE=image/jpeg:https://kulturvermittlung-zh.ch/wp-content/uploads/2021/09/3-7_Plant-Fever-Towards-a-Phyto-centred-Design_Exhibition-by-studio-d-o-t-s-x-CID-au-Grand-Hornu_Photo-Tim-Van-de-Velde.jpeg
ORGANIZER;CN="Museum f%C3%BCr Gestaltung Z%C3%BCrich":MAILTO:vermittlung@museum-gestaltung.ch
END:VEVENT
BEGIN:VEVENT
DTSTART;TZID=Europe/Zurich:20211210T090000
DTEND;TZID=Europe/Zurich:20211210T110000
DTSTAMP:20260424T200218
CREATED:20210905T192819Z
LAST-MODIFIED:20211123T060658Z
UID:10000088-1639126800-1639134000@kulturvermittlung-zh.ch
SUMMARY:Naturbild im Wandel
DESCRIPTION:Die Ausstellung «Earth Beats» ist ein künstlerisches Plädoyer zum Schutz der Erde und ihrer natürlichen Ressourcen\, erwachsen aus der Dringlichkeit der Gegenwart. Die Natur ist über die Landschaftsmalerei fest in der Kunstgeschichte verankert. Doch was sehen wir im Gemälde einer Moorlandschaft von Robert Zünd\, was er nicht sah? Und schätzen wir den dokumentarischen Wert einer farbigen Gletschermalerei aus der Zeit vor der Fotografie? Wir werfen einen etwas anderen Blick auf diese Werke der Kunst und diskutieren das sich ändernde Verhältnis des Menschen zur Natur. \n\nMit Eveline Schüep\, Kunsthaus Zürich & Annemarie Brennwald\, Wildnispark Zürich\n\n  \nBild: Thomas Fearnley\, Studie zum Rosenlauigletscher\, 1835
URL:https://kulturvermittlung-zh.ch/event/naturbild-im-wandel/
LOCATION:Kunsthaus Zürich\, Heimplatz 1\, Zürich\, Zürich\, 8001\, Schweiz
CATEGORIES:EARLY BIRDS
ATTACH;FMTTYPE=image/jpeg:https://kulturvermittlung-zh.ch/wp-content/uploads/2021/09/thumbnail1.jpg
END:VEVENT
BEGIN:VEVENT
DTSTART;TZID=Europe/Zurich:20210903T090000
DTEND;TZID=Europe/Zurich:20210903T110000
DTSTAMP:20260424T200218
CREATED:20210905T081512Z
LAST-MODIFIED:20210905T195435Z
UID:10000153-1630659600-1630666800@kulturvermittlung-zh.ch
SUMMARY:Von Pflanzen und Menschen
DESCRIPTION:Was macht die Beziehung zwischen Pflanze und Mensch so besonders? Wie begegnen wir diesen andersartigen Lebewesen? \nWie reagieren Pflanzen auf unser Tun? Wie kommunizieren sie? \nUnterwegs auf einem Spaziergang durch den Sihlwald entdecken wir das verborgene Potential von Pflanzen. \nWir laden Sie ein\, Ihre eigene Beziehung zur Pflanzenwelt zu beleuchten und zu überdenken. \n  \n\nMit Annemarie Brennwald\, Wildnispark Zürich & Franziska Hess\, Museum für Gestaltung Zürich\n\n 
URL:https://kulturvermittlung-zh.ch/event/von-pflanzen-und-menschen/
LOCATION:Wildnispark Zürich\, Besucherzentrum Sihlwald\, Alte Sihlstrasse 13\, Sihlwald\, Zürich\, 8135\, Schweiz
CATEGORIES:EARLY BIRDS
ATTACH;FMTTYPE=image/jpeg:https://kulturvermittlung-zh.ch/wp-content/uploads/2021/07/Bild_Pflanzen-e1628244720414.jpg
ORGANIZER;CN="Wildnispark Z%C3%BCrich":MAILTO:bettina.gutbrodt@wildnispark.ch
END:VEVENT
BEGIN:VEVENT
DTSTART;TZID=Europe/Zurich:20210820T090000
DTEND;TZID=Europe/Zurich:20210820T110000
DTSTAMP:20260424T200218
CREATED:20210905T080326Z
LAST-MODIFIED:20210905T195617Z
UID:10000152-1629450000-1629457200@kulturvermittlung-zh.ch
SUMMARY:Vom Geben und Nehmen
DESCRIPTION:Indigene Kulturen in Nordamerika betonen ihre Verbundenheit mit der Natur – früher wie heute. Ein respektvoller Umgang und eine nachhaltige Nutzung der Ressourcen ist für sie zentral – auch dann\, wenn sie es selbst nicht leben können. Viele erleben am eigenen Leib\, was es heisst\, wenn die Natur aus dem Gleichgewicht gerät und Menschen ihre Lebensgrundlage entzogen wird. Unser Rundgang führt uns zu wundersamen Heilpflanzen\, bis hin zu Fischfarmen und ihre Folgen für das ökologische Gleichgewicht. Wir laden ein zum Nachdenken und Diskutieren. \n\nMit Katharina Kägi\, NONAM & Eveline Schüep\, Kunsthaus Zürich\n\n  \nBild: Michael Belmore «Roiling in Silence»
URL:https://kulturvermittlung-zh.ch/event/vom-geben-und-nehmen/
LOCATION:NONAM Nordamerika Native Museum Zürich\, Seefeldstrasse 317\, Zürich\, ZH\, 8008\, Schweiz
CATEGORIES:EARLY BIRDS
ATTACH;FMTTYPE=image/jpeg:https://kulturvermittlung-zh.ch/wp-content/uploads/2021/07/Michael-Belmore-Roiling-in-Silence-2014.-scaled-e1628244579594.jpg
END:VEVENT
END:VCALENDAR