BEGIN:VCALENDAR
VERSION:2.0
PRODID:-//Verein Kulturvermittlung Zürich - ECPv6.15.18//NONSGML v1.0//EN
CALSCALE:GREGORIAN
METHOD:PUBLISH
X-WR-CALNAME:Verein Kulturvermittlung Zürich
X-ORIGINAL-URL:https://kulturvermittlung-zh.ch
X-WR-CALDESC:Veranstaltungen für Verein Kulturvermittlung Zürich
REFRESH-INTERVAL;VALUE=DURATION:PT1H
X-Robots-Tag:noindex
X-PUBLISHED-TTL:PT1H
BEGIN:VTIMEZONE
TZID:Europe/Zurich
BEGIN:DAYLIGHT
TZOFFSETFROM:+0100
TZOFFSETTO:+0200
TZNAME:CEST
DTSTART:20190331T010000
END:DAYLIGHT
BEGIN:STANDARD
TZOFFSETFROM:+0200
TZOFFSETTO:+0100
TZNAME:CET
DTSTART:20191027T010000
END:STANDARD
BEGIN:DAYLIGHT
TZOFFSETFROM:+0100
TZOFFSETTO:+0200
TZNAME:CEST
DTSTART:20200329T010000
END:DAYLIGHT
BEGIN:STANDARD
TZOFFSETFROM:+0200
TZOFFSETTO:+0100
TZNAME:CET
DTSTART:20201025T010000
END:STANDARD
BEGIN:DAYLIGHT
TZOFFSETFROM:+0100
TZOFFSETTO:+0200
TZNAME:CEST
DTSTART:20210328T010000
END:DAYLIGHT
BEGIN:STANDARD
TZOFFSETFROM:+0200
TZOFFSETTO:+0100
TZNAME:CET
DTSTART:20211031T010000
END:STANDARD
BEGIN:DAYLIGHT
TZOFFSETFROM:+0100
TZOFFSETTO:+0200
TZNAME:CEST
DTSTART:20220327T010000
END:DAYLIGHT
BEGIN:STANDARD
TZOFFSETFROM:+0200
TZOFFSETTO:+0100
TZNAME:CET
DTSTART:20221030T010000
END:STANDARD
BEGIN:DAYLIGHT
TZOFFSETFROM:+0100
TZOFFSETTO:+0200
TZNAME:CEST
DTSTART:20230326T010000
END:DAYLIGHT
BEGIN:STANDARD
TZOFFSETFROM:+0200
TZOFFSETTO:+0100
TZNAME:CET
DTSTART:20231029T010000
END:STANDARD
BEGIN:DAYLIGHT
TZOFFSETFROM:+0100
TZOFFSETTO:+0200
TZNAME:CEST
DTSTART:20240331T010000
END:DAYLIGHT
BEGIN:STANDARD
TZOFFSETFROM:+0200
TZOFFSETTO:+0100
TZNAME:CET
DTSTART:20241027T010000
END:STANDARD
BEGIN:DAYLIGHT
TZOFFSETFROM:+0100
TZOFFSETTO:+0200
TZNAME:CEST
DTSTART:20250330T010000
END:DAYLIGHT
BEGIN:STANDARD
TZOFFSETFROM:+0200
TZOFFSETTO:+0100
TZNAME:CET
DTSTART:20251026T010000
END:STANDARD
BEGIN:DAYLIGHT
TZOFFSETFROM:+0100
TZOFFSETTO:+0200
TZNAME:CEST
DTSTART:20260329T010000
END:DAYLIGHT
BEGIN:STANDARD
TZOFFSETFROM:+0200
TZOFFSETTO:+0100
TZNAME:CET
DTSTART:20261025T010000
END:STANDARD
END:VTIMEZONE
BEGIN:VEVENT
DTSTART;TZID=Europe/Zurich:20250110T090000
DTEND;TZID=Europe/Zurich:20250110T110000
DTSTAMP:20260421T142916
CREATED:20241205T134635Z
LAST-MODIFIED:20250107T095036Z
UID:10000209-1736499600-1736506800@kulturvermittlung-zh.ch
SUMMARY:Anpassung um jeden Preis
DESCRIPTION:Der weltberühmte Schriftsteller Hans Christian Andersen (1805-1875) war Zeit seines Lebens ein Aussenseiter und auch in seinen Märchen sind Aussenseiter allgegenwärtig. Der dänische Choreograf Kim Brandstrup verbindet in seiner neuen Produktion «Of light\, wind and waters» mit dem Ballett Zürich Motive aus den Märchen mit der Biografie von Andersen. Der Schriftsteller selbst und seine Märchenfiguren müssen sich allein in einer schroffen und abweisenden Welt behaupten und träumen davon\, dazuzugehören. Dafür sind sie bereit\, drastische Entscheidungen zu fällen und vieles hinter sich zu lassen. Sind diese am Ende ihren Preis wert? \n\nMit Bettina Holzhausen\, Ballett Zürich & Manuela Hitz\, Musée Visionnaire\n\n  \nTreffpunkt: bei der Billetkasse \nFoto: Portrait Hans Christian Andersen 1860 \n  \n  \n  \n  \n  \n 
URL:https://kulturvermittlung-zh.ch/event/anpassung-um-jeden-preis/
LOCATION:Opernhaus Zürich\, Sechseläutenplatz 1\, Zürich\, ZH\, 8001\, Schweiz
CATEGORIES:EARLY BIRDS
ATTACH;FMTTYPE=image/jpeg:https://kulturvermittlung-zh.ch/wp-content/uploads/2024/12/Hans_Christian_Andersen_1860-e1733406327258.jpg
ORGANIZER;CN="Opernhaus Z%C3%BCrich":MAILTO:roger.laemmli@opernhaus.ch
END:VEVENT
BEGIN:VEVENT
DTSTART;TZID=Europe/Zurich:20241004T090000
DTEND;TZID=Europe/Zurich:20241004T110000
DTSTAMP:20260421T142916
CREATED:20240703T153542Z
LAST-MODIFIED:20240925T103309Z
UID:10000197-1728032400-1728039600@kulturvermittlung-zh.ch
SUMMARY:Clara Schumann – Kinder\, Küche und Karriere
DESCRIPTION:Clara Schumann (1819-1896) war die wohl bedeutendste Pianistin ihrer Zeit und eine exzellente Komponistin. Hin- und hergerissen zwischen gesellschaftlichen Zwängen und ihrer Karriere\, führte sie ein aufreibendes Leben. Cathy Marston beschäftigt sich in ihrem neuen Ballett erneut mit dieser bedeutenden Musikerin und spürt den unterschiedlichen Aspekten des Lebens von Clara Schumann nach.\nNeben einer Werkeinführung erwarten sie auch tänzerische Erfahrungen und Einblick in eine Ballettprobe. \nTreffpunkt: Billetkasse des Opernhaus \n\nMit Bettina Holzhausen\, Ballett Zürich & Eveline Schüep\, Kunsthaus Zürich\n\n  \nFoto: Clara Schumann 1859\, Kohlezeichnung von Eduard Bendemann \n  \n 
URL:https://kulturvermittlung-zh.ch/event/clara-schumann-kinder-kueche-und-karriere/
LOCATION:Opernhaus Zürich\, Sechseläutenplatz 1\, Zürich\, ZH\, 8001\, Schweiz
CATEGORIES:EARLY BIRDS
ATTACH;FMTTYPE=image/jpeg:https://kulturvermittlung-zh.ch/wp-content/uploads/2024/07/E_Bendemann-Clara_Schumann_Kohlezeichnung_1859-e1720020870642.jpg
ORGANIZER;CN="Opernhaus Z%C3%BCrich":MAILTO:roger.laemmli@opernhaus.ch
END:VEVENT
BEGIN:VEVENT
DTSTART;TZID=Europe/Zurich:20231103T090000
DTEND;TZID=Europe/Zurich:20231103T110000
DTSTAMP:20260421T142916
CREATED:20230802T120429Z
LAST-MODIFIED:20231005T081256Z
UID:10000171-1699002000-1699009200@kulturvermittlung-zh.ch
SUMMARY:Machtträume
DESCRIPTION:Nachtträume des spanischen Choreografen Marcos Moraus war das Zürcher Ballett-Ereignis des Jahres 2022. In der Traumwelt\, die eine rätselhafte Königin heraufbeschwört und in der sich das Tänzerensemble geradezu ineinander zu verschlingen scheint\, liegen Zerstörung und Hoffnung dicht beieinander. Morau gelingt mit dem Ballett Zürich eine tiefgründige Analyse der Gegenwart\, in der uns Macht und Eitelkeit\, Missgunst und Profitgier allzu oft regelrecht im Würgegriff haben.\nWir werden praktisch ausprobieren\, wie Macht verführt und fügsam macht. Anschliessend bekommen wir einen kurzen Einblick in die Probenarbeit des Balletts Zürich. \n\n\n• mit Bettina Holzhausen\, Ballett Zürich und Roger Lämmli\, Opernhaus Zürich \n\nTreffpunkt: Opernhaus Zürich\, Sechseläutenplatz\, Billetkasse
URL:https://kulturvermittlung-zh.ch/event/machttraeume/
LOCATION:Opernhaus Zürich\, Sechseläutenplatz 1\, Zürich\, ZH\, 8001\, Schweiz
CATEGORIES:EARLY BIRDS
ATTACH;FMTTYPE=image/jpeg:https://kulturvermittlung-zh.ch/wp-content/uploads/2023/08/nachttraume_gp_c_gregory-batardon_037-e1690978580511.jpg
ORGANIZER;CN="Ballett Z%C3%BCrich":MAILTO:roger.laemmli@opernhaus.ch
END:VEVENT
BEGIN:VEVENT
DTSTART;TZID=Europe/Zurich:20231016T090000
DTEND;TZID=Europe/Zurich:20231020T160000
DTSTAMP:20260421T142916
CREATED:20230607T094807Z
LAST-MODIFIED:20230614T114705Z
UID:10000167-1697446800-1697817600@kulturvermittlung-zh.ch
SUMMARY:Jim Knopfs Reise ans Ende der Welt – Film ab!
DESCRIPTION:Jim Knopfs Reise ans Ende der Welt – Film ab!\nIst die reale Welt zu klein für deine Ideen? Lust auf ein Abenteuer? Dann tauche mit Jim Knopf\, Lukas und seiner Lokomotive Emma in die fantastische Welt des Films ein: Wir experimentieren mit Filmtricks und suchen nach visuellen Umsetzungen für Szenen aus Jim Knopfs Reise ans Ende der Welt. Wir lassen eine Spielzeug-Lok mit Hilfe der Greenscreen-Technik übers Meer oder durch die Wüste reisen. Mit Knete und der Stopp Motion Technik animieren wir den Halbdrachen Nepomuk und der Kuscheltierdrache wird zu Frau Mahlzahn. Die Mini-Filmchen vertonen wir mit  Geräuschen und Musik live vor Publikum. \n\nKursleitende: Julian Grünthal\, filmkids.ch & Roger Lämmli\, Opernhaus Zürich\nAlter: 9 bis 12 Jahre\nTeilnehmende: mind. 15 Kinder\nKurskosten: CHF 200.00 (inkl. Materialkosten)\nBesammlungsort: Opernhaus Zürich\, Billettkasse\, Sechseläutenplatz 1\, 8000 Zürich\nPräsentation: Freitag 16. Oktober 16:30\, Opernhaus Zürich \nZwei Wochen vor Kursbeginn erhalten Sie die Einladung mit Informationen zum detaillierten Wochenprogramm sowie den Kontaktdaten der Kursleitendenden. \n 
URL:https://kulturvermittlung-zh.ch/event/jim-knopfs-reise-ans-ende-der-welt-film-ab/
LOCATION:Opernhaus Zürich\, Sechseläutenplatz 1\, Zürich\, ZH\, 8001\, Schweiz
CATEGORIES:COOL-TUR
ATTACH;FMTTYPE=image/jpeg:https://kulturvermittlung-zh.ch/wp-content/uploads/2023/06/Opernhaus.jpg
ORGANIZER;CN="filmkids.ch":MAILTO:info@filmkids.ch
END:VEVENT
BEGIN:VEVENT
DTSTART;TZID=Europe/Zurich:20230512T090000
DTEND;TZID=Europe/Zurich:20230512T090000
DTSTAMP:20260421T142916
CREATED:20230419T105549Z
LAST-MODIFIED:20230420T164707Z
UID:10000099-1683882000-1683882000@kulturvermittlung-zh.ch
SUMMARY:Lessons in love and violence
DESCRIPTION:Der Stoff von George Benjamins 2018 in London uraufgeführten Oper basiert auf dem Historiendrama Edward II. von Christopher Marlow\, einem Zeitgenossen von William Shakespeare. Im Zentrum dieses düsteren Werks steht der machtmüde König Edward\, der die Regierungsgeschäfte und sein Volk zugunsten seiner Kunstliebe und der homoerotischen Beziehung zu seinem Günstling Gaveston vernachlässigt. Der zur Krone strebende Heerführer Mortimer und Geliebte von Edwards Gattin Königin Isabella lässt Gaveston hinrichten und den König grausam töten. Lessons in Love and Violence ist eine Geschichte über die Amoral der Herrschenden\, Günstlingswirtschaft\, Intrigen\, Machtgier\, die Hitze des Begehrens und über private und politische  Verflechtungen. \nTreffpunkt: Billetkasse Opernhaus Zürich \n\nMit Roger Lämmli\, Opernhaus Zürich & Manuela Hitz\, Musée Visionnaire\n\n  \n 
URL:https://kulturvermittlung-zh.ch/event/lessons-in-love-and-violence/
LOCATION:Opernhaus Zürich\, Sechseläutenplatz 1\, Zürich\, ZH\, 8001\, Schweiz
CATEGORIES:EARLY BIRDS
ATTACH;FMTTYPE=image/jpeg:https://kulturvermittlung-zh.ch/wp-content/uploads/2023/04/Hintergruende_Visuals_22_23_1920x1080112.jpg
ORGANIZER;CN="Opernhaus Z%C3%BCrich":MAILTO:roger.laemmli@opernhaus.ch
END:VEVENT
BEGIN:VEVENT
DTSTART;TZID=Europe/Zurich:20211018T090000
DTEND;TZID=Europe/Zurich:20211022T160000
DTSTAMP:20260421T142916
CREATED:20210607T183945Z
LAST-MODIFIED:20210906T072745Z
UID:10000148-1634547600-1634918400@kulturvermittlung-zh.ch
SUMMARY:Odysseus’ klingende Irrfahrt nach Hause
DESCRIPTION:Odysseus’ klingende Irrfahrt nach Hause\nWir begleiten Odysseus auf seiner Irrfahrt von Troja nach Hause und hören von seinen Abenteuern. Wir tragen Musik zusammen\, die uns an Zuhause erinnert\, und lassen mit Klängen Räume entstehen. Mit Mikrofonen nehmen wir Geräusche auf\, imitieren Sturmwellen\, peitschende Winde und kreieren Klanggeschichten. Wir erfinden Reggae-Songs\, begleiten unsere Gesänge mit selbstgebastelten Instrumenten und betören damit die Ohren des Publikums. \n  \nKursleitende Brigitta Weber\, Theaterschaffende & Roger Lämmli\, Musiktheaterpädagoge\nAlter 8 bis 12 Jahre\nTeilnehmende max. 20 Kinder\nKurskosten CHF 150 (inkl. Materialkosten)\nPräsentation Fr 22. Oktober 2021\, 16:30 Uhr\, Probebühne Opernhaus\, Kreuzstrasse 5\, 8008 Zürich
URL:https://kulturvermittlung-zh.ch/event/odysseus-klingende-irrfahrt-nach-hause/
LOCATION:Opernhaus Zürich\, Sechseläutenplatz 1\, Zürich\, ZH\, 8001\, Schweiz
CATEGORIES:COOL-TUR
ATTACH;FMTTYPE=image/jpeg:https://kulturvermittlung-zh.ch/wp-content/uploads/2021/06/COOL-TUR21_Kurs-5_Odysseus-scaled-e1623000071986.jpg
END:VEVENT
BEGIN:VEVENT
DTSTART;TZID=Europe/Zurich:20210426T090000
DTEND;TZID=Europe/Zurich:20210430T160000
DTSTAMP:20260421T142916
CREATED:20210211T164750Z
LAST-MODIFIED:20210405T124852Z
UID:10000125-1619427600-1619798400@kulturvermittlung-zh.ch
SUMMARY:Die Werkstatt der Schmetterlinge
DESCRIPTION:Die Werkstatt der Schmetterlinge\nTheater Stadelhofen & Opernhaus Zürich \nIn der «Werkstatt der Dinge» erschaffen wir fantasievolle Lebewesen. Zusammen mit Julius\, dem Figurenspieler erwecken wir sie durch Musik und Bewegung zum Leben und erfinden Geschichten mit ihnen und über sie. Der Tonkünstler Roman hilft uns\, in der Klangwerkstatt im Opernhaus eigene Melodien zu «basteln». Im Theater Stadel­hofen finden unsere Kreationen Ende Woche einen spielerisch­musikalischen Abschluss. \n\nTreffpunkt Billettkasse Opernhaus Zürich\, Sechseläutenplatz 1\, 8008 Zürich\nKursleitende Julius Griesenberg (Figurenspieler)\, Roman Glaser (Musiker) und Roger Lämmli (Musiktheaterpädagoge)\nAlter 7–10 Jahre\nTeilnehmende max. 20 Kinder\nKurskosten CHF 150.– (inkl. Materialkosten)\nPräsentation Fr 30. April 2021\, 16.30 Uhr\, Theater Stadelhofen
URL:https://kulturvermittlung-zh.ch/event/die-werkstatt-der-schmetterlinge/
LOCATION:Opernhaus Zürich\, Sechseläutenplatz 1\, Zürich\, ZH\, 8001\, Schweiz
CATEGORIES:COOL-TUR primavera
ATTACH;FMTTYPE=image/jpeg:https://kulturvermittlung-zh.ch/wp-content/uploads/2021/02/DIE_WERKSTATT_DER_SCHMETTERLINGE_w-e1613063528358.jpg
END:VEVENT
BEGIN:VEVENT
DTSTART;TZID=Europe/Zurich:20201012T090000
DTEND;TZID=Europe/Zurich:20201016T160000
DTSTAMP:20260421T142916
CREATED:20200810T165337Z
LAST-MODIFIED:20210404T103509Z
UID:10000121-1602493200-1602864000@kulturvermittlung-zh.ch
SUMMARY:Beatmachine
DESCRIPTION:Spürst du den Rhythmus unter deiner Haut? Tschak–tschak–bum–tschak… Tauche mit Musik und Bewegung eine Woche lang in die Welt der Maschinen ein. Wir werden die Mechanik des Körpers entdecken\, lassen metallische Klänge entstehen und werden selbst eine bunte Rhythmusmaschine erfinden. Auch Kinder mit körperlichen Beeinträchtigungen sind willkommen. \n\n  Kursbesuch mit wenigen Deutschkentnissen möglich.\n Kinder mit körperlichen Beeinträchtigungen können am Kurs teilnehmen.\n Kinder mit kognitiver Beeinträchtigung können am Kurs teilnehmen.\n\nAlter der Teilnehmenden: 10 bis 12 Jahre\nTeilnehmende: max. 15 Kinder\nKurskosten: CHF 150.- (inkl. Materialkosten)\nKursleitende: Guillaume Guilherme\, Tanzvermittler und Janina Kriszun\, Musikvermittlerin\nPräsentation:  Freitag\, 16. Oktober 2020\, 16.30 Uhr im Tanzhaus
URL:https://kulturvermittlung-zh.ch/event/beatmachine/
LOCATION:Opernhaus Zürich\, Sechseläutenplatz 1\, Zürich\, ZH\, 8001\, Schweiz
CATEGORIES:COOL-TUR
ATTACH;FMTTYPE=image/jpeg:https://kulturvermittlung-zh.ch/wp-content/uploads/2020/08/Bild_Kurs-5_COOL-TUR_2020-580x280-1-e1598907356193.jpg
END:VEVENT
BEGIN:VEVENT
DTSTART;TZID=Europe/Zurich:20201005T090000
DTEND;TZID=Europe/Zurich:20201009T160000
DTSTAMP:20260421T142916
CREATED:20210222T110246Z
LAST-MODIFIED:20210401T165923Z
UID:10000136-1601888400-1602259200@kulturvermittlung-zh.ch
SUMMARY:Wunderwelten
DESCRIPTION:Wunderwelten\nDas beste Rezept gegen Langeweile ist\, sich mit Alice in verrückte Abenteuer zu stürzen und in ein Universum von Farben\, Formen und Geschichten einzutauchen. Wir entdecken Wunderwelten\, wo das Unmögliche gelingen kann\, wenn man es für möglich hält und wo wir den ungewöhnlichsten Gestalten\, Kunstwerken und Kindern begegnen\, die zu Freunden werden. Wir nutzen die geschenkte Zeit\, um selber Verrücktes zu kreieren und andere Realitäten zu erfinden. \nAlter der Teilnehmenden: 9 bis 12 Jahre\nTeilnehmende: max. 20 Kinder\nKurskosten: CHF 150.- (inkl. Materialkosten)\nKursleitende: Manuela Hitz\, Kunstvermittlerin und Roger Lämmli\, Musiktheaterpädagoge\nPräsentation:  Freitag 9. Oktober 2020\, 16.30 Uhr im Opernhaus Zürich
URL:https://kulturvermittlung-zh.ch/event/wunderwelten/
LOCATION:Opernhaus Zürich\, Sechseläutenplatz 1\, Zürich\, ZH\, 8001\, Schweiz
CATEGORIES:COOL-TUR
ATTACH;FMTTYPE=image/jpeg:https://kulturvermittlung-zh.ch/wp-content/uploads/2021/02/DIE_WERKSTATT_DER_SCHMETTERLINGE_w-e1613063528358.jpg
END:VEVENT
END:VCALENDAR