BEGIN:VCALENDAR
VERSION:2.0
PRODID:-//Verein Kulturvermittlung Zürich - ECPv6.15.18//NONSGML v1.0//EN
CALSCALE:GREGORIAN
METHOD:PUBLISH
X-ORIGINAL-URL:https://kulturvermittlung-zh.ch
X-WR-CALDESC:Veranstaltungen für Verein Kulturvermittlung Zürich
REFRESH-INTERVAL;VALUE=DURATION:PT1H
X-Robots-Tag:noindex
X-PUBLISHED-TTL:PT1H
BEGIN:VTIMEZONE
TZID:Europe/Zurich
BEGIN:DAYLIGHT
TZOFFSETFROM:+0100
TZOFFSETTO:+0200
TZNAME:CEST
DTSTART:20210328T010000
END:DAYLIGHT
BEGIN:STANDARD
TZOFFSETFROM:+0200
TZOFFSETTO:+0100
TZNAME:CET
DTSTART:20211031T010000
END:STANDARD
BEGIN:DAYLIGHT
TZOFFSETFROM:+0100
TZOFFSETTO:+0200
TZNAME:CEST
DTSTART:20220327T010000
END:DAYLIGHT
BEGIN:STANDARD
TZOFFSETFROM:+0200
TZOFFSETTO:+0100
TZNAME:CET
DTSTART:20221030T010000
END:STANDARD
BEGIN:DAYLIGHT
TZOFFSETFROM:+0100
TZOFFSETTO:+0200
TZNAME:CEST
DTSTART:20230326T010000
END:DAYLIGHT
BEGIN:STANDARD
TZOFFSETFROM:+0200
TZOFFSETTO:+0100
TZNAME:CET
DTSTART:20231029T010000
END:STANDARD
BEGIN:DAYLIGHT
TZOFFSETFROM:+0100
TZOFFSETTO:+0200
TZNAME:CEST
DTSTART:20240331T010000
END:DAYLIGHT
BEGIN:STANDARD
TZOFFSETFROM:+0200
TZOFFSETTO:+0100
TZNAME:CET
DTSTART:20241027T010000
END:STANDARD
BEGIN:DAYLIGHT
TZOFFSETFROM:+0100
TZOFFSETTO:+0200
TZNAME:CEST
DTSTART:20250330T010000
END:DAYLIGHT
BEGIN:STANDARD
TZOFFSETFROM:+0200
TZOFFSETTO:+0100
TZNAME:CET
DTSTART:20251026T010000
END:STANDARD
END:VTIMEZONE
BEGIN:VEVENT
DTSTART;TZID=Europe/Zurich:20241101T090000
DTEND;TZID=Europe/Zurich:20241101T110000
DTSTAMP:20260421T122401
CREATED:20240703T151728Z
LAST-MODIFIED:20241028T093224Z
UID:10000195-1730451600-1730458800@kulturvermittlung-zh.ch
SUMMARY:Hinter den Kulissen
DESCRIPTION:Wer im Kinosessel sitzen bleibt\, wenn der Abspann beginnt\, kann je nach Film eine unglaublich lange Liste von Berufen und Namen lesen. Aber warum braucht es denn so viele Menschen um einen Film zu drehen? Welche Berufe verstecken sich dahinter? Nach einer ersten Präsentation\, wie ein Filmset oder ein Theater/Ballet organisiert ist und welche Aufgaben es gibt\, schlüpfen wir selbst in diese Berufe und drehen eine Mini-Filmszene.\nDazwischen gibt es Praxisbeispiele anhand von Bildern vom Spielfilm „Hotel Excelsior“\, welcher dieses Jahr im Studio der Swiss Film School SFS gedreht wurde. \n\nMit Simone Häberling\, Swiss Film School & Bettina Holzhausen\, Ballett Zürich\n\n  \n  \n  \n 
URL:https://kulturvermittlung-zh.ch/event/hinter-den-kulissen/
LOCATION:Swiss Film School SFS\, Vulkanstrasse 120\, 8048 Zürich Altstetten\, Zürich\, Schweiz
CATEGORIES:EARLY BIRDS
ATTACH;FMTTYPE=image/jpeg:https://kulturvermittlung-zh.ch/wp-content/uploads/2024/07/Lehrstellen-im-Rampenlicht-Early-Birds-e1720019822627.jpg
ORGANIZER;CN="Swiss Film School SFS / filmkids.ch":MAILTO:info@filmkids.ch
END:VEVENT
BEGIN:VEVENT
DTSTART;TZID=Europe/Zurich:20240920T090000
DTEND;TZID=Europe/Zurich:20240920T110000
DTSTAMP:20260421T122401
CREATED:20240703T154046Z
LAST-MODIFIED:20240822T162217Z
UID:10000198-1726822800-1726830000@kulturvermittlung-zh.ch
SUMMARY:Ein Haus mit kolonialer Vergangenheit
DESCRIPTION:Eine prachtvolle\, reich ausgestaltete Villa im Zürcher Seefeld – wer aber dem Bauherrn zum Reichtum verhalf\, zeigt erst der Blick in die koloniale Vergangenheit des Hauses. Wer arbeitete im ausbeuterischen System auf den Tabakplantagen auf Sumatra um 1870? Was erzählen Bild- und Filmdokumente\, produziert aus europäischer Perspektive? Lücken\, Leerstellen oder gar Falsch-Erzähltes – In einem Rundgang durch das Baudenkmal begegnen wir dieser bewegten Vergangenheit und diskutieren rund um die Wirkung von Filmen – damals und heute. \n\nMit Raffaella Popp\, Heimatschutzzentrum Villa Patumbah & Simone Häberling\, Swiss Film School
URL:https://kulturvermittlung-zh.ch/event/ein-haus-mit-kolonialer-vergangenheit/
LOCATION:Heimatschutzzentrum Villa Patumbah\, Zollikerstrasse 128\, Zürich\, 8008\, Schweiz
CATEGORIES:EARLY BIRDS
ATTACH;FMTTYPE=image/jpeg:https://kulturvermittlung-zh.ch/wp-content/uploads/2024/07/Early-Birds-Film-Propaganda-Villa-Patumbah-e1720021219458.jpg
END:VEVENT
BEGIN:VEVENT
DTSTART;TZID=Europe/Zurich:20221017T083000
DTEND;TZID=Europe/Zurich:20221021T160000
DTSTAMP:20260421T122401
CREATED:20220620T204215Z
LAST-MODIFIED:20220705T200617Z
UID:10000163-1665995400-1666368000@kulturvermittlung-zh.ch
SUMMARY:Tanz und Film: Choreografieren für die Kamera
DESCRIPTION:Tanz und Film: Choreografieren für die Kamera\nDas Gestalten und Herstellen von kurzen Tanzfilmen ist Thema des Kurses. Wir machen alles selbst: tanzen\, choreografieren\, Regie führen\, filmen und schneiden. Wir arbeiten im und ums Theater Winterthur. Ob innen oder aussen\, in Räumen\, auf der Strasse oder im Park\, mit Bewegung und Kamera gibt es überall viel zu entdecken und zu erleben. Auch den Tänzerinnen und Tänzern des Junior Balletts\, die auf der Bühne proben\, werden wir zuschauen dürfen. \n  \nKursleitende Olivia Sturny\, Theatervermittlerin\, Theater Winterthur &  Bettina Holzhausen\, Ballettvermittlerin\, Ballett Zürich &  Julian Grünthal\, Film- Theaterregisseur\, filmkids.ch\nAlter 9 bis 12 Jahre\nTeilnehmende min 15 Kinder\nKurskosten CHF 150 (inkl. Materialkosten) \nBesammlungsort/Ende in Zürich\, 8.30 bzw. 16.15 Uhr Bhf Oerlikon – in Winterthur\, 9.15 bzw 16.00 direkt beim Theater Winterthur\nPräsentation Fr 17. Oktober 2022\, 15.30 Uhr Theater Winterthur\, Theaterstrasse 6\, 8402 Winterthur
URL:https://kulturvermittlung-zh.ch/event/tanz-und-film-choreografieren-fuer-die-kamera/
LOCATION:Theater Winterthur\, Theaterstrasse 6\, Winterthur\, 8402\, Schweiz
CATEGORIES:COOL-TUR
ATTACH;FMTTYPE=image/jpeg:https://kulturvermittlung-zh.ch/wp-content/uploads/2022/06/WhatsApp-Image-2020-07-15-at-11.30.39-1024x650-1-e1656843092449.jpeg
ORGANIZER;CN="Ballett Z%C3%BCrich":MAILTO:roger.laemmli@opernhaus.ch
END:VEVENT
BEGIN:VEVENT
DTSTART;TZID=Europe/Zurich:20220617T090000
DTEND;TZID=Europe/Zurich:20220617T110000
DTSTAMP:20260421T122401
CREATED:20220131T073736Z
LAST-MODIFIED:20220131T141320Z
UID:10000095-1655456400-1655463600@kulturvermittlung-zh.ch
SUMMARY:Kunst gegen das Vergessen
DESCRIPTION:In Video- und Soundinstallationen beschäftigen sich Basel Abbas und Ruanne Abou-Rahme mit Zeugenschaft\, Archivierung sowie dem Aufzeigen von Gewalt und Verlust. Zur Zeit des Arabischen Frühlings begannen sie\, Filmmaterial aus dem Internet zu sammeln\, das von den Ereignissen im Nahen Osten berichtet. \nIm Workshop diskutieren wir\, wie Kunst gegen das Vergessen wirken kann und gestalten in Anlehnung an die\nAusstellung «May amnesia never kiss us on the mouth» ein Videoexperiment mit\nunseren Smartphones. \n  \n\nMit Cynthia Gavranic\, Migros Museum für Gegenwartskunst & Anka Schmid\, Filmerin und Videokünstlerin\, filmkids.ch & Swiss Film School SFS\n\nBild: Basel Abbas and Ruanne Abou-Rahme\, Postscript: after everything is extracted (screenshot from May amnesia never kiss us on the mouth)\, 2020–ongoing\, Courtesy the artists
URL:https://kulturvermittlung-zh.ch/event/kunst-gegen-das-vergessen/
LOCATION:Migros Museum für Gegenwartskunst\, Limmatstrasse 270\, Zürich\, 8005\, Schweiz
CATEGORIES:EARLY BIRDS
ATTACH;FMTTYPE=image/jpeg:https://kulturvermittlung-zh.ch/wp-content/uploads/2022/01/Abb_Migros-Museum_17.6..jpg
END:VEVENT
BEGIN:VEVENT
DTSTART;TZID=Europe/Zurich:20220506T090000
DTEND;TZID=Europe/Zurich:20220506T110000
DTSTAMP:20260421T122401
CREATED:20220203T114818Z
LAST-MODIFIED:20220203T115131Z
UID:10000160-1651827600-1651834800@kulturvermittlung-zh.ch
SUMMARY:Der Körper im Dokumentarfilm
DESCRIPTION:Der Dokumentarfilm «Mit dem Bauch durch die Wand» ist eine Langzeitdokumentation über drei Teenage-Mütter. Die Filmerin Anka Schmid diskutiert und erläutert anhand einzelner Film-Szenen den Entstehungsprozess des Films. Ein Werkstattgespräch für Auge und Ohr\, bei dem wir auch das eigene Körpergefühl im Spiegel dieser jungen Menschen erkunden werden. \nTrailer und Website:  http://www.mitdembauch-film.ch \n\nMit Anka Schmid\, Filmerin und Videokünstlerin\, Swiss Film School SFS / filmkids.ch & Guillaume Guilherme\, Tanzhaus Zürich\n\n  \nBild: Filmstill «Mit dem Bauch durch die Wand»
URL:https://kulturvermittlung-zh.ch/event/der-koerper-im-dokumentarfilm/
LOCATION:Räumlichkeiten des Verein Filmkids\, Vulkanstrasse 120\, 8048 Zürich\, Zürich\, Schweiz
CATEGORIES:EARLY BIRDS
ATTACH;FMTTYPE=image/jpeg:https://kulturvermittlung-zh.ch/wp-content/uploads/2022/01/jFilmstill_Bauch_ennifer-mwathi-bus.jpg
ORGANIZER;CN="Swiss Film School SFS / filmkids.ch":MAILTO:info@filmkids.ch
END:VEVENT
END:VCALENDAR