BEGIN:VCALENDAR
VERSION:2.0
PRODID:-//Verein Kulturvermittlung Zürich - ECPv6.15.18//NONSGML v1.0//EN
CALSCALE:GREGORIAN
METHOD:PUBLISH
X-ORIGINAL-URL:https://kulturvermittlung-zh.ch
X-WR-CALDESC:Veranstaltungen für Verein Kulturvermittlung Zürich
REFRESH-INTERVAL;VALUE=DURATION:PT1H
X-Robots-Tag:noindex
X-PUBLISHED-TTL:PT1H
BEGIN:VTIMEZONE
TZID:Europe/Zurich
BEGIN:DAYLIGHT
TZOFFSETFROM:+0100
TZOFFSETTO:+0200
TZNAME:CEST
DTSTART:20220327T010000
END:DAYLIGHT
BEGIN:STANDARD
TZOFFSETFROM:+0200
TZOFFSETTO:+0100
TZNAME:CET
DTSTART:20221030T010000
END:STANDARD
BEGIN:DAYLIGHT
TZOFFSETFROM:+0100
TZOFFSETTO:+0200
TZNAME:CEST
DTSTART:20230326T010000
END:DAYLIGHT
BEGIN:STANDARD
TZOFFSETFROM:+0200
TZOFFSETTO:+0100
TZNAME:CET
DTSTART:20231029T010000
END:STANDARD
BEGIN:DAYLIGHT
TZOFFSETFROM:+0100
TZOFFSETTO:+0200
TZNAME:CEST
DTSTART:20240331T010000
END:DAYLIGHT
BEGIN:STANDARD
TZOFFSETFROM:+0200
TZOFFSETTO:+0100
TZNAME:CET
DTSTART:20241027T010000
END:STANDARD
BEGIN:DAYLIGHT
TZOFFSETFROM:+0100
TZOFFSETTO:+0200
TZNAME:CEST
DTSTART:20250330T010000
END:DAYLIGHT
BEGIN:STANDARD
TZOFFSETFROM:+0200
TZOFFSETTO:+0100
TZNAME:CET
DTSTART:20251026T010000
END:STANDARD
BEGIN:DAYLIGHT
TZOFFSETFROM:+0100
TZOFFSETTO:+0200
TZNAME:CEST
DTSTART:20260329T010000
END:DAYLIGHT
BEGIN:STANDARD
TZOFFSETFROM:+0200
TZOFFSETTO:+0100
TZNAME:CET
DTSTART:20261025T010000
END:STANDARD
END:VTIMEZONE
BEGIN:VEVENT
DTSTART;TZID=Europe/Zurich:20250912T090000
DTEND;TZID=Europe/Zurich:20250912T110000
DTSTAMP:20260420T123814
CREATED:20241231T115807Z
LAST-MODIFIED:20250924T103822Z
UID:10000220-1757667600-1757674800@kulturvermittlung-zh.ch
SUMMARY:Versteckte\, verwunschene Gärten – grüne Paradiese
DESCRIPTION:Wir wandeln durch Grünoasen\, entdecken verschiedene Perspektiven mit blumig\, üppig wachsenden Gartenanlagen und Weitblick. Sie laden zum Durchatmen und Stauen ein. Hier lässt sich die Formenvielfalt der Natur\, ihre unterschiedliche Beschaffenheit und Tonalität entdecken. Dazu erklingen stimmungsvolle Lieder – gesungen von einem Quartett der Zürcher Sing-Akademie – die Sehnsüchte wecken. Wir schärfen unser Bewusstsein\, wie Haltung\, Ausdruck und Kleidung den Gesamtauftritt beeinflussen und hören von den Gesangs -Profis\, worauf sie besonders achten. Wir erforschen die Wechselwirkungen zwischen Musik\, Gestaltung und Natur. \nAnmerkung: viele Treppenstufen \nTextil KulTour Isabelle Wackernagel und Eva Waldmann & Janina Kriszun Kulturvermittlerin der Zürcher Sing-Akademie mit einem Sängerquartett. \nTreffpunkt: ACHTUNG\, NEU: Ecke Schönberggasse/Dr. Faust Gasse. Diese befindet sich links neben dem Haupteingang zur Uni. Vom Neumarkt aus lässt sich der Treffpunkt nur über den Rechberggarten und dann das kleine Weglein weiter zur Schönberggasse erreichen. \nBildcredits\nCollage: Isabelle Wackernagel (Bild: Heiri Strub\, Fotisssimo\, 1988\, Foto: Eva Waldmann
URL:https://kulturvermittlung-zh.ch/event/versteckte-verwunschene-gaerten-gruene-paradiese/
LOCATION:Beim Lichthof der Universität Zürich\, Ecke Schönberggasse/Dr. Faust Gasse. Diese befindet sich links neben dem Haupteingang zur Uni.\, Zürich\, 8006\, Schweiz
CATEGORIES:EARLY BIRDS
ATTACH;FMTTYPE=image/jpeg:https://kulturvermittlung-zh.ch/wp-content/uploads/2024/12/2024_11_27Versteckte-verwunschene-Gaerten-gruene-Paradieseearly-bird-gross.jpg
END:VEVENT
BEGIN:VEVENT
DTSTART;TZID=Europe/Zurich:20250307T090000
DTEND;TZID=Europe/Zurich:20250307T110000
DTSTAMP:20260420T123814
CREATED:20241231T091746Z
LAST-MODIFIED:20250110T140211Z
UID:10000213-1741338000-1741345200@kulturvermittlung-zh.ch
SUMMARY:Klöster\, Politschloss und Geldpalast
DESCRIPTION:Wir durchstreifen die städtische Zone\, in denen wirtschaftliche\, politische und geistlich-moralische Welten aufeinander stossen. Die Abhängigkeiten\, die zu explosivem Stoff führen\, wollen wir witzig\, kritisch\, aufmüpfig\, akustisch und visuell durchleuchten und klanglich untermalen. Faust aufs Auge sowie liebliche Farbstimmungen und Harmonien zeigen sich in Textilen\, Tönen und Bauwerken. Wie nahe ist der Bezug zwischen Musik und Stoff und was gibt den Ton an? Auf einem Stadtrundgang tauchen wir in diese Welten ein. Der Rundgang wird klanglich von einem Quartett der Zürcher Sing-Akademie begleitet und mit Liedern bereichert. \n\nMit Isabelle Wackernagel und Eva Waldmann von Textil KultTour & Janina Kriszun und Sänger*innen der Zürcher Sing-Akademie.\n\n\n  \nTreffpunkt: Beim Eingang des Stadthaus unter der Arkade (Stadthausquai 17\,  8001 Zürich) \nBild / Collage: Isabelle Wackernagel
URL:https://kulturvermittlung-zh.ch/event/kloester-politschloss-und-geldpalast/
LOCATION:Stadthaus\, Stadthausquai 17\, Zürich\,  8001
CATEGORIES:EARLY BIRDS
ATTACH;FMTTYPE=image/jpeg:https://kulturvermittlung-zh.ch/wp-content/uploads/2024/12/2024_11_27Kloester-Politschloss-und-Geldpalast-early-bird.jpg
END:VEVENT
BEGIN:VEVENT
DTSTART;TZID=Europe/Zurich:20241014T090000
DTEND;TZID=Europe/Zurich:20241018T160000
DTSTAMP:20260420T123814
CREATED:20240523T163752Z
LAST-MODIFIED:20240925T165103Z
UID:10000189-1728896400-1729267200@kulturvermittlung-zh.ch
SUMMARY:Kamera läuft...
DESCRIPTION:Kamera läuft…\n\n\nKlingen\, filmen\, singen\, entdecken und ganz viel Spass haben. Reist mit uns eine Woche lang in andere Welten\, lernt unbekannte Klänge und Experten der Filmschule filmkids.ch kennen. Als Forschende haltet ihr die neuen Eindrücke filmisch fest: werde zum Drehbuchautor\, Cutter\, zur Kamerafrau oder Regisseurin. Aber auch vor der Kamera macht es Spass! Mit Sängerinnen und Sängern der Zürcher Sing-Akademie wird die eigene Stimme unter die Lupe genommen\, die je nach Filmausschnitt schön oder auch mal ganz gespenstisch zum Einsatz kommt. Musik und Film gehören zusammen\, wir freuen uns auf die Entdeckungsreise mit dir. \n\nKursleitende: Martin Skalsky\, filmkids.ch & Janina Kriszun\, Zürcher Sing-Akademie\nAlter: 10 bis 12 Jahre\nTeilnehmende: mind. 10 Kinder\nKurskosten: CHF 200.00 (inkl. Materialkosten) \nAbschlusspräsentation: Am Freitag 18. Oktober 24\, 16.00- ca. 16.45 Uhr bei filmkids.ch (Vulkanstrasse 120\, 8048 Zürich)\nKonzertbesuch: Am Samstag 19. Oktober 24\, 19.30 Uhr werden alle Kinder des Kurses mit einer Begleitperson ins Konzert in der Tonhalle Zürich eingeladen. \nZwei Wochen vor Kursbeginn erhalten Sie die Einladung mit Informationen zum Besammlungsort\, dem detaillierten Wochenprogramm sowie den Kontaktdaten der Kursleitendenden. \n 
URL:https://kulturvermittlung-zh.ch/event/kamera-laeuft/
LOCATION:Swiss Film School SFS\, Vulkanstrasse 120\, 8048 Zürich Altstetten\, Zürich\, Schweiz
CATEGORIES:COOL-TUR
ATTACH;FMTTYPE=image/png:https://kulturvermittlung-zh.ch/wp-content/uploads/2024/05/Collage-Filmkurs-Chor-neu-e1716483321695.png
ORGANIZER;CN="filmkids.ch":MAILTO:info@filmkids.ch
END:VEVENT
BEGIN:VEVENT
DTSTART;TZID=Europe/Zurich:20240628T090000
DTEND;TZID=Europe/Zurich:20240628T110000
DTSTAMP:20260420T123814
CREATED:20240205T181333Z
LAST-MODIFIED:20240208T105833Z
UID:10000186-1719565200-1719572400@kulturvermittlung-zh.ch
SUMMARY:(K)ein Raum für Kreativität
DESCRIPTION:Was sagen die Räume\, in denen wir leben\, über uns aus? Gemeinsam treten wir ein in das Zimmer von Marie Lieb\, die ab 1894 jahrelang in der Psychiatrischen Klinik Heidelberg interniert war. Mit Stofffetzen legte sie virtuose Muster auf dem Boden ihres Zimmers aus. Was sie dazu veranlasste\, welche Botschaft sie vermitteln wollte? Wir wissen es nicht. Doch genau dieser Raum für Spekulation macht es im Zusammenspiel mit der Ästhetik der Ornamente umso spannender\, in andere Gedankenwelten einzutauchen\, zu interpretieren und imaginieren – und dadurch auch mehr über uns selbst zu erfahren.\nParallelen finden wir in der Musik. Aus einem Gedanken entsteht ein neues Musikstück\, das andere interpretieren. Wie viel Raum der ausführenden Künstler*in gestattet wird\, erzählt uns das Quartett der Zürcher-Sing-Akademie. \n\nMit Manuela Hitz\, Musée visionnaire & Janina Kriszun\, Zürcher Sing-Akademie\n\n  \nBildlegende: Marie Lieb\, I894\, Sammlung Prinzhorn\, Universitätsklinikum Heidelberg \n  \n 
URL:https://kulturvermittlung-zh.ch/event/kein-raum-fuer-kreativitaet/
LOCATION:Musée Visionnaire\, Predigerplatz 10\, Zürich\, 8001\, Schweiz
CATEGORIES:EARLY BIRDS
ATTACH;FMTTYPE=image/jpeg:https://kulturvermittlung-zh.ch/wp-content/uploads/2024/02/Lieb_1771_1-e1707156747398.jpg
ORGANIZER;CN="Z%C3%BCrcher Sing-Akademie":MAILTO:kriszun@sing-akademie.ch
END:VEVENT
BEGIN:VEVENT
DTSTART;TZID=Europe/Zurich:20240503T090000
DTEND;TZID=Europe/Zurich:20240503T110000
DTSTAMP:20260420T123814
CREATED:20240205T094456Z
LAST-MODIFIED:20240425T123747Z
UID:10000182-1714726800-1714734000@kulturvermittlung-zh.ch
SUMMARY:Mehrstimmige Experimente in Bewegung
DESCRIPTION:Mit Bewegung und Stimme erfahren wir die unsichtbare Arbeit einer Aufführung: Wie bereitet sich ein*e Sänger*in körperlich vor? Wie trainiere ich mein Bewegungsvokabular zu einem bestimmten Thema? Wie improvisiere ich mit einer vorgegebenen Melodie? In diesem Workshop erforschen wir zusammen unseren Körper und unsere Stimme\, nähern uns in Bewegung weniger beachteten Körperstellen\, stellen Rückwärts-Bilder her und tanzen im Dunkeln. \nEs ist keine Bewegungs- oder Gesangserfahrung nötig. Bitte kommen Sie in Bewegungskleidern und -schuhen\, es gibt keine Garderobe und Duschen vor Ort. \n\nMit Janina Kriszun\, Zürcher Sing-Akademie & Christina Galli\, Tanzhaus Zürich\n\n  \n 
URL:https://kulturvermittlung-zh.ch/event/mehrstimmige-experimente-in-bewegung/
LOCATION:Evangelisch Methodistische Kirche\, Promenadengasse 4\, Zürich\, 8001\, Schweiz
CATEGORIES:EARLY BIRDS
ATTACH;FMTTYPE=image/jpeg:https://kulturvermittlung-zh.ch/wp-content/uploads/2024/02/Foto_istockphoto-e1707157866781.jpg
ORGANIZER;CN="Z%C3%BCrcher Sing-Akademie":MAILTO:kriszun@sing-akademie.ch
END:VEVENT
BEGIN:VEVENT
DTSTART;TZID=Europe/Zurich:20231016T090000
DTEND;TZID=Europe/Zurich:20231020T160000
DTSTAMP:20260420T123814
CREATED:20230607T101732Z
LAST-MODIFIED:20230626T101013Z
UID:10000169-1697446800-1697817600@kulturvermittlung-zh.ch
SUMMARY:Tick\, tack\, Taktstock
DESCRIPTION:Tick\, tack\, Taktstock\n\n«Keine Zeit!» schimpft der Hase aus Alice im Wunderland. Oh…. wir fallen in ein Zeitloch und entdecken ein Land\, in dem die Uhren anders ticken. In der Ausstellung im Kunsthaus Zürich lernst du verschiedene Ansichten über die Zeit kennen und denkst darüber nach\, was Zeit für dich bedeutet. Ist die Zeit farbig? Womit lässt sie sich anhalten? Im Atelier baust du eine Zeitmaschine und entscheidest\, wohin sie dich bringt. Mit Stimme und Körper erproben wir verschiedene Wege\, den Takt der Zeit erlebbar zu machen. Dabei unterstützen uns die Gesangsprofis der Zürcher Sing-Akademie. \n\nKursleitende: Eveline Schüep\, Kunsthaus Zürich & Janina Krizun\, Zürcher Sing-Akademie\nAlter: 7 bis 12 Jahre\nTeilnehmende: mind. 15 Kinder\nKurskosten: CHF 200.00 (inkl. Materialkosten) \nKonzertbesuch: am Do 19. Oktober 23\, 19.30 Uhr sind alle Kinder des Kurses mit einer Begleitperson ins Konzert in der Tonhalle Zürich eingeladen.\nPräsentation: Am Fr 20. Oktober 23\, 15-17 Uhr können die Zeitmaschinen vom Publikum besichtigt und ausprobiert werden. \nZwei Wochen vor Kursbeginn erhalten Sie die Einladung mit Informationen zum Besammlungsort\, dem detaillierten Wochenprogramm sowie den Kontaktdaten der Kursleitendenden. \n(Bild: Elena Koycheva auf Unsplash)
URL:https://kulturvermittlung-zh.ch/event/tick-tack-taktstock/
LOCATION:Kunsthaus Zürich\, Heimplatz 1\, Zürich\, Zürich\, 8001\, Schweiz
CATEGORIES:COOL-TUR
ATTACH;FMTTYPE=image/jpeg:https://kulturvermittlung-zh.ch/wp-content/uploads/2023/06/elena-koycheva-VmcIMhuWCac-unsplash-e1686153598888.jpg
ORGANIZER;CN="Z%C3%BCrcher Sing-Akademie":MAILTO:kriszun@sing-akademie.ch
END:VEVENT
END:VCALENDAR